BEGIN:VCALENDAR
VERSION:2.0
PRODID:-//Passpartout - ECPv6.15.20//NONSGML v1.0//EN
CALSCALE:GREGORIAN
METHOD:PUBLISH
X-ORIGINAL-URL:https://passpartout.art
X-WR-CALDESC:Eventi per Passpartout
REFRESH-INTERVAL;VALUE=DURATION:PT1H
X-Robots-Tag:noindex
X-PUBLISHED-TTL:PT1H
BEGIN:VTIMEZONE
TZID:Europe/Rome
BEGIN:DAYLIGHT
TZOFFSETFROM:+0100
TZOFFSETTO:+0200
TZNAME:CEST
DTSTART:20240331T010000
END:DAYLIGHT
BEGIN:STANDARD
TZOFFSETFROM:+0200
TZOFFSETTO:+0100
TZNAME:CET
DTSTART:20241027T010000
END:STANDARD
BEGIN:DAYLIGHT
TZOFFSETFROM:+0100
TZOFFSETTO:+0200
TZNAME:CEST
DTSTART:20250330T010000
END:DAYLIGHT
BEGIN:STANDARD
TZOFFSETFROM:+0200
TZOFFSETTO:+0100
TZNAME:CET
DTSTART:20251026T010000
END:STANDARD
BEGIN:DAYLIGHT
TZOFFSETFROM:+0100
TZOFFSETTO:+0200
TZNAME:CEST
DTSTART:20260329T010000
END:DAYLIGHT
BEGIN:STANDARD
TZOFFSETFROM:+0200
TZOFFSETTO:+0100
TZNAME:CET
DTSTART:20261025T010000
END:STANDARD
END:VTIMEZONE
BEGIN:VEVENT
DTSTART;TZID=Europe/Rome:20250707T080000
DTEND;TZID=Europe/Rome:20250707T080000
DTSTAMP:20260420T191754
CREATED:20250704T143156Z
LAST-MODIFIED:20250704T143156Z
UID:6838-1751875200-1751875200@passpartout.art
SUMMARY:MERCATO CITTADINO
DESCRIPTION:Mercato cittadino settimanale con ogni genere di articoli. Presso centro storico
URL:https://passpartout.art/evento/mercato-cittadino/
CATEGORIES:monumenti,Parchi,ville
END:VEVENT
BEGIN:VEVENT
DTSTART;TZID=Europe/Rome:20250707T203000
DTEND;TZID=Europe/Rome:20250707T203000
DTSTAMP:20260420T191754
CREATED:20250704T143124Z
LAST-MODIFIED:20250704T143124Z
UID:6826-1751920200-1751920200@passpartout.art
SUMMARY:ANTICHE MURA TEATRO FESTIVAL
DESCRIPTION:Spettacoli teatrali a cura di Teatro Bresci.\n Al Teatro all’Aperto in Campo della Marta. (in caso di maltempo in Villa Rina)\n Ingresso ad offerta libera\n Pre spettacolo 20.30\n Spettacolo 21.30\n www.antichemurateatrofestival.com
URL:https://passpartout.art/evento/antiche-mura-teatro-festival/
CATEGORIES:monumenti,Parchi,ville
END:VEVENT
END:VCALENDAR