BEGIN:VCALENDAR
VERSION:2.0
PRODID:-//Passpartout - ECPv6.15.20//NONSGML v1.0//EN
CALSCALE:GREGORIAN
METHOD:PUBLISH
X-ORIGINAL-URL:https://passpartout.art
X-WR-CALDESC:Eventi per Passpartout
REFRESH-INTERVAL;VALUE=DURATION:PT1H
X-Robots-Tag:noindex
X-PUBLISHED-TTL:PT1H
BEGIN:VTIMEZONE
TZID:Europe/Rome
BEGIN:DAYLIGHT
TZOFFSETFROM:+0100
TZOFFSETTO:+0200
TZNAME:CEST
DTSTART:20220327T010000
END:DAYLIGHT
BEGIN:STANDARD
TZOFFSETFROM:+0200
TZOFFSETTO:+0100
TZNAME:CET
DTSTART:20221030T010000
END:STANDARD
BEGIN:DAYLIGHT
TZOFFSETFROM:+0100
TZOFFSETTO:+0200
TZNAME:CEST
DTSTART:20230326T010000
END:DAYLIGHT
BEGIN:STANDARD
TZOFFSETFROM:+0200
TZOFFSETTO:+0100
TZNAME:CET
DTSTART:20231029T010000
END:STANDARD
BEGIN:DAYLIGHT
TZOFFSETFROM:+0100
TZOFFSETTO:+0200
TZNAME:CEST
DTSTART:20240331T010000
END:DAYLIGHT
BEGIN:STANDARD
TZOFFSETFROM:+0200
TZOFFSETTO:+0100
TZNAME:CET
DTSTART:20241027T010000
END:STANDARD
END:VTIMEZONE
BEGIN:VEVENT
DTSTART;TZID=Europe/Rome:20230630T083000
DTEND;TZID=Europe/Rome:20230630T083000
DTSTAMP:20260420T151657
CREATED:20230601T180757Z
LAST-MODIFIED:20230601T180757Z
UID:3197-1688113800-1688113800@passpartout.art
SUMMARY:Centri estivi al MUSME 2023
DESCRIPTION:Tornano i centri estivi del MUSME\, per un’estate ricca di attività e divertimento tra scienza e cultura!
URL:https://passpartout.art/evento/centri-estivi-al-musme-2023-15/
CATEGORIES:musei scientifici,osservatori,Planetari
END:VEVENT
BEGIN:VEVENT
DTSTART;TZID=Europe/Rome:20230629T083000
DTEND;TZID=Europe/Rome:20230629T083000
DTSTAMP:20260420T151657
CREATED:20230601T180756Z
LAST-MODIFIED:20230601T180756Z
UID:3196-1688027400-1688027400@passpartout.art
SUMMARY:Centri estivi al MUSME 2023
DESCRIPTION:Tornano i centri estivi del MUSME\, per un’estate ricca di attività e divertimento tra scienza e cultura!
URL:https://passpartout.art/evento/centri-estivi-al-musme-2023-14/
CATEGORIES:musei scientifici,osservatori,Planetari
END:VEVENT
BEGIN:VEVENT
DTSTART;TZID=Europe/Rome:20230628T083000
DTEND;TZID=Europe/Rome:20230628T083000
DTSTAMP:20260420T151657
CREATED:20230601T180743Z
LAST-MODIFIED:20230601T180743Z
UID:3195-1687941000-1687941000@passpartout.art
SUMMARY:Centri estivi al MUSME 2023
DESCRIPTION:Tornano i centri estivi del MUSME\, per un’estate ricca di attività e divertimento tra scienza e cultura!
URL:https://passpartout.art/evento/centri-estivi-al-musme-2023-13/
CATEGORIES:musei scientifici,osservatori,Planetari
END:VEVENT
BEGIN:VEVENT
DTSTART;TZID=Europe/Rome:20230627T083000
DTEND;TZID=Europe/Rome:20230627T083000
DTSTAMP:20260420T151657
CREATED:20230601T180743Z
LAST-MODIFIED:20230601T180743Z
UID:3194-1687854600-1687854600@passpartout.art
SUMMARY:Centri estivi al MUSME 2023
DESCRIPTION:Tornano i centri estivi del MUSME\, per un’estate ricca di attività e divertimento tra scienza e cultura!
URL:https://passpartout.art/evento/centri-estivi-al-musme-2023-12/
CATEGORIES:musei scientifici,osservatori,Planetari
END:VEVENT
BEGIN:VEVENT
DTSTART;TZID=Europe/Rome:20230626T083000
DTEND;TZID=Europe/Rome:20230626T083000
DTSTAMP:20260420T151657
CREATED:20230601T180743Z
LAST-MODIFIED:20230601T180743Z
UID:3193-1687768200-1687768200@passpartout.art
SUMMARY:Centri estivi al MUSME 2023
DESCRIPTION:Tornano i centri estivi del MUSME\, per un’estate ricca di attività e divertimento tra scienza e cultura!
URL:https://passpartout.art/evento/centri-estivi-al-musme-2023-11/
CATEGORIES:musei scientifici,osservatori,Planetari
END:VEVENT
BEGIN:VEVENT
DTSTART;TZID=Europe/Rome:20230623T083000
DTEND;TZID=Europe/Rome:20230623T083000
DTSTAMP:20260420T151657
CREATED:20230601T180742Z
LAST-MODIFIED:20230601T180742Z
UID:3192-1687509000-1687509000@passpartout.art
SUMMARY:Centri estivi al MUSME 2023
DESCRIPTION:Tornano i centri estivi del MUSME\, per un’estate ricca di attività e divertimento tra scienza e cultura!
URL:https://passpartout.art/evento/centri-estivi-al-musme-2023-10/
CATEGORIES:musei scientifici,osservatori,Planetari
END:VEVENT
BEGIN:VEVENT
DTSTART;TZID=Europe/Rome:20230622T083000
DTEND;TZID=Europe/Rome:20230622T083000
DTSTAMP:20260420T151657
CREATED:20230601T180742Z
LAST-MODIFIED:20230601T180742Z
UID:3191-1687422600-1687422600@passpartout.art
SUMMARY:Centri estivi al MUSME 2023
DESCRIPTION:Tornano i centri estivi del MUSME\, per un’estate ricca di attività e divertimento tra scienza e cultura!
URL:https://passpartout.art/evento/centri-estivi-al-musme-2023-9/
CATEGORIES:musei scientifici,osservatori,Planetari
END:VEVENT
BEGIN:VEVENT
DTSTART;TZID=Europe/Rome:20230621T083000
DTEND;TZID=Europe/Rome:20230621T083000
DTSTAMP:20260420T151657
CREATED:20230601T180728Z
LAST-MODIFIED:20230601T180728Z
UID:3190-1687336200-1687336200@passpartout.art
SUMMARY:Centri estivi al MUSME 2023
DESCRIPTION:Tornano i centri estivi del MUSME\, per un’estate ricca di attività e divertimento tra scienza e cultura!
URL:https://passpartout.art/evento/centri-estivi-al-musme-2023-8/
CATEGORIES:musei scientifici,osservatori,Planetari
END:VEVENT
BEGIN:VEVENT
DTSTART;TZID=Europe/Rome:20230620T083000
DTEND;TZID=Europe/Rome:20230620T083000
DTSTAMP:20260420T151657
CREATED:20230601T180727Z
LAST-MODIFIED:20230601T180727Z
UID:3189-1687249800-1687249800@passpartout.art
SUMMARY:Centri estivi al MUSME 2023
DESCRIPTION:Tornano i centri estivi del MUSME\, per un’estate ricca di attività e divertimento tra scienza e cultura!
URL:https://passpartout.art/evento/centri-estivi-al-musme-2023-7/
CATEGORIES:musei scientifici,osservatori,Planetari
END:VEVENT
BEGIN:VEVENT
DTSTART;TZID=Europe/Rome:20230619T083000
DTEND;TZID=Europe/Rome:20230619T083000
DTSTAMP:20260420T151657
CREATED:20230601T180727Z
LAST-MODIFIED:20230601T180727Z
UID:3188-1687163400-1687163400@passpartout.art
SUMMARY:Centri estivi al MUSME 2023
DESCRIPTION:Tornano i centri estivi del MUSME\, per un’estate ricca di attività e divertimento tra scienza e cultura!
URL:https://passpartout.art/evento/centri-estivi-al-musme-2023-6/
CATEGORIES:musei scientifici,osservatori,Planetari
END:VEVENT
BEGIN:VEVENT
DTSTART;TZID=Europe/Rome:20230616T083000
DTEND;TZID=Europe/Rome:20230616T083000
DTSTAMP:20260420T151657
CREATED:20230601T180726Z
LAST-MODIFIED:20230601T180726Z
UID:3187-1686904200-1686904200@passpartout.art
SUMMARY:Centri estivi al MUSME 2023
DESCRIPTION:Tornano i centri estivi del MUSME\, per un’estate ricca di attività e divertimento tra scienza e cultura!
URL:https://passpartout.art/evento/centri-estivi-al-musme-2023-5/
CATEGORIES:musei scientifici,osservatori,Planetari
END:VEVENT
BEGIN:VEVENT
DTSTART;TZID=Europe/Rome:20230615T083000
DTEND;TZID=Europe/Rome:20230615T083000
DTSTAMP:20260420T151657
CREATED:20230601T180726Z
LAST-MODIFIED:20230601T180726Z
UID:3186-1686817800-1686817800@passpartout.art
SUMMARY:Centri estivi al MUSME 2023
DESCRIPTION:Tornano i centri estivi del MUSME\, per un’estate ricca di attività e divertimento tra scienza e cultura!
URL:https://passpartout.art/evento/centri-estivi-al-musme-2023-4/
CATEGORIES:musei scientifici,osservatori,Planetari
END:VEVENT
BEGIN:VEVENT
DTSTART;TZID=Europe/Rome:20230614T083000
DTEND;TZID=Europe/Rome:20230614T083000
DTSTAMP:20260420T151657
CREATED:20230601T180721Z
LAST-MODIFIED:20230601T180721Z
UID:3185-1686731400-1686731400@passpartout.art
SUMMARY:Centri estivi al MUSME 2023
DESCRIPTION:Tornano i centri estivi del MUSME\, per un’estate ricca di attività e divertimento tra scienza e cultura!
URL:https://passpartout.art/evento/centri-estivi-al-musme-2023-3/
CATEGORIES:musei scientifici,osservatori,Planetari
END:VEVENT
BEGIN:VEVENT
DTSTART;TZID=Europe/Rome:20230613T083000
DTEND;TZID=Europe/Rome:20230613T083000
DTSTAMP:20260420T151657
CREATED:20230601T180720Z
LAST-MODIFIED:20230601T180720Z
UID:3184-1686645000-1686645000@passpartout.art
SUMMARY:Centri estivi al MUSME 2023
DESCRIPTION:Tornano i centri estivi del MUSME\, per un’estate ricca di attività e divertimento tra scienza e cultura!
URL:https://passpartout.art/evento/centri-estivi-al-musme-2023-2/
CATEGORIES:musei scientifici,osservatori,Planetari
END:VEVENT
BEGIN:VEVENT
DTSTART;TZID=Europe/Rome:20230612T083000
DTEND;TZID=Europe/Rome:20230612T083000
DTSTAMP:20260420T151657
CREATED:20230601T180720Z
LAST-MODIFIED:20230601T180720Z
UID:3183-1686558600-1686558600@passpartout.art
SUMMARY:Centri estivi al MUSME 2023
DESCRIPTION:Tornano i centri estivi del MUSME\, per un’estate ricca di attività e divertimento tra scienza e cultura!
URL:https://passpartout.art/evento/centri-estivi-al-musme-2023/
CATEGORIES:musei scientifici,osservatori,Planetari
END:VEVENT
BEGIN:VEVENT
DTSTART;TZID=Europe/Rome:20230429T000000
DTEND;TZID=Europe/Rome:20230501T000000
DTSTAMP:20260420T151657
CREATED:20230402T221107Z
LAST-MODIFIED:20230402T222020Z
UID:3011-1682726400-1682899200@passpartout.art
SUMMARY:Primavera scientifica
DESCRIPTION:Enigmi e Rompicapi\, giochi scientifici per grandi e piccini\, labirinti\, spettacolo planetario e costruzione di oggetti scientifici!
URL:https://passpartout.art/evento/primavera-scientifica-5/
CATEGORIES:musei scientifici,Planetari
END:VEVENT
BEGIN:VEVENT
DTSTART;TZID=Europe/Rome:20230422T000000
DTEND;TZID=Europe/Rome:20230425T000000
DTSTAMP:20260420T151657
CREATED:20230402T221053Z
LAST-MODIFIED:20230402T222004Z
UID:3010-1682121600-1682380800@passpartout.art
SUMMARY:Primavera scientifica
DESCRIPTION:Enigmi e Rompicapi\, giochi scientifici per grandi e piccini\, labirinti\, spettacolo planetario e costruzione di oggetti scientifici!
URL:https://passpartout.art/evento/primavera-scientifica-4/
CATEGORIES:musei scientifici,Planetari
END:VEVENT
BEGIN:VEVENT
DTSTART;TZID=Europe/Rome:20230415T153000
DTEND;TZID=Europe/Rome:20230415T153000
DTSTAMP:20260420T151657
CREATED:20230402T221052Z
LAST-MODIFIED:20230402T222004Z
UID:3007-1681572600-1681572600@passpartout.art
SUMMARY:EsperiMUSME - Chi ha paura?
DESCRIPTION:Scopriamo insieme come funziona la paura e come si comporta il nostro corpo.
URL:https://passpartout.art/evento/esperimusme-chi-ha-paura-2/
CATEGORIES:musei scientifici,Planetari
END:VEVENT
BEGIN:VEVENT
DTSTART;TZID=Europe/Rome:20230408T000000
DTEND;TZID=Europe/Rome:20230410T000000
DTSTAMP:20260420T151657
CREATED:20230402T221053Z
LAST-MODIFIED:20230402T222004Z
UID:3009-1680912000-1681084800@passpartout.art
SUMMARY:Primavera scientifica
DESCRIPTION:Enigmi e Rompicapi\, giochi scientifici per grandi e piccini\, labirinti\, spettacolo planetario e costruzione di oggetti scientifici!
URL:https://passpartout.art/evento/primavera-scientifica-3/
CATEGORIES:musei scientifici,Planetari
END:VEVENT
END:VCALENDAR