BEGIN:VCALENDAR
VERSION:2.0
PRODID:-//Passpartout - ECPv6.15.20//NONSGML v1.0//EN
CALSCALE:GREGORIAN
METHOD:PUBLISH
X-WR-CALNAME:Passpartout
X-ORIGINAL-URL:https://passpartout.art
X-WR-CALDESC:Eventi per Passpartout
REFRESH-INTERVAL;VALUE=DURATION:PT1H
X-Robots-Tag:noindex
X-PUBLISHED-TTL:PT1H
BEGIN:VTIMEZONE
TZID:Europe/Rome
BEGIN:DAYLIGHT
TZOFFSETFROM:+0100
TZOFFSETTO:+0200
TZNAME:CEST
DTSTART:20240331T010000
END:DAYLIGHT
BEGIN:STANDARD
TZOFFSETFROM:+0200
TZOFFSETTO:+0100
TZNAME:CET
DTSTART:20241027T010000
END:STANDARD
BEGIN:DAYLIGHT
TZOFFSETFROM:+0100
TZOFFSETTO:+0200
TZNAME:CEST
DTSTART:20250330T010000
END:DAYLIGHT
BEGIN:STANDARD
TZOFFSETFROM:+0200
TZOFFSETTO:+0100
TZNAME:CET
DTSTART:20251026T010000
END:STANDARD
BEGIN:DAYLIGHT
TZOFFSETFROM:+0100
TZOFFSETTO:+0200
TZNAME:CEST
DTSTART:20260329T010000
END:DAYLIGHT
BEGIN:STANDARD
TZOFFSETFROM:+0200
TZOFFSETTO:+0100
TZNAME:CET
DTSTART:20261025T010000
END:STANDARD
END:VTIMEZONE
BEGIN:VEVENT
DTSTART;TZID=Europe/Rome:20250608T000000
DTEND;TZID=Europe/Rome:20250608T000000
DTSTAMP:20260422T022929
CREATED:20250529T181432Z
LAST-MODIFIED:20250529T181432Z
UID:6720-1749340800-1749340800@passpartout.art
SUMMARY:MERCASTRATINO DELL`USATO
DESCRIPTION:Torna la versione estiva del MercASTRAtino! In chiusura del progetto RiapriAmo la balconata\, un altro modo per raccogliere fondi a favore della ristrutturazione effettuata nel nostro cinema e per promuovere la cultura del riuso e della sostenibilità. Tra la sala del Cinema Astra e il portico della Parrocchia di San Bartolomeo\, saranno esposti vestiti e libri per bambini e ragazzi (1-16 anni) oltre alle ormai famose locandine di film recenti e molto meno recenti 😉
URL:https://passpartout.art/evento/mercastratino-dellusato-2/
CATEGORIES:Cinema
END:VEVENT
END:VCALENDAR