BEGIN:VCALENDAR
VERSION:2.0
PRODID:-//Passpartout - ECPv6.15.20//NONSGML v1.0//EN
CALSCALE:GREGORIAN
METHOD:PUBLISH
X-ORIGINAL-URL:https://passpartout.art
X-WR-CALDESC:Eventi per Passpartout
REFRESH-INTERVAL;VALUE=DURATION:PT1H
X-Robots-Tag:noindex
X-PUBLISHED-TTL:PT1H
BEGIN:VTIMEZONE
TZID:Europe/Rome
BEGIN:DAYLIGHT
TZOFFSETFROM:+0100
TZOFFSETTO:+0200
TZNAME:CEST
DTSTART:20240331T010000
END:DAYLIGHT
BEGIN:STANDARD
TZOFFSETFROM:+0200
TZOFFSETTO:+0100
TZNAME:CET
DTSTART:20241027T010000
END:STANDARD
BEGIN:DAYLIGHT
TZOFFSETFROM:+0100
TZOFFSETTO:+0200
TZNAME:CEST
DTSTART:20250330T010000
END:DAYLIGHT
BEGIN:STANDARD
TZOFFSETFROM:+0200
TZOFFSETTO:+0100
TZNAME:CET
DTSTART:20251026T010000
END:STANDARD
BEGIN:DAYLIGHT
TZOFFSETFROM:+0100
TZOFFSETTO:+0200
TZNAME:CEST
DTSTART:20260329T010000
END:DAYLIGHT
BEGIN:STANDARD
TZOFFSETFROM:+0200
TZOFFSETTO:+0100
TZNAME:CET
DTSTART:20261025T010000
END:STANDARD
END:VTIMEZONE
BEGIN:VEVENT
DTSTART;TZID=Europe/Rome:20250301T151500
DTEND;TZID=Europe/Rome:20250301T151500
DTSTAMP:20260422T004958
CREATED:20250226T230335Z
LAST-MODIFIED:20250226T230335Z
UID:6393-1740842100-1740842100@passpartout.art
SUMMARY:Cinema amico - Nina e il segreto del riccio
DESCRIPTION:Nina ha un papà che le racconta e disegna storie prima di dormire. Arriva però il momento in cui questa tradizione viene interrotta. Non solo perché cresce ma soprattutto perché il genitore è preoccupato perché la fabbrica in cui lavorava ha chiuso l’attività. Con l’aiuto del coetaneo Mehdi\, che si trova in una situazione analoga\, e con il supporto del riccio che il padre le aveva disegnato\, mette in atto un piano per trovare il denaro che il direttore della fabbrica aveva rubato portandola così alla chiusura.
URL:https://passpartout.art/evento/cinema-amico-nina-e-il-segreto-del-riccio/
CATEGORIES:Cinema
END:VEVENT
END:VCALENDAR