BEGIN:VCALENDAR
VERSION:2.0
PRODID:-//Passpartout - ECPv6.15.20//NONSGML v1.0//EN
CALSCALE:GREGORIAN
METHOD:PUBLISH
X-WR-CALNAME:Passpartout
X-ORIGINAL-URL:https://passpartout.art
X-WR-CALDESC:Eventi per Passpartout
REFRESH-INTERVAL;VALUE=DURATION:PT1H
X-Robots-Tag:noindex
X-PUBLISHED-TTL:PT1H
BEGIN:VTIMEZONE
TZID:Europe/Rome
BEGIN:DAYLIGHT
TZOFFSETFROM:+0100
TZOFFSETTO:+0200
TZNAME:CEST
DTSTART:20230326T010000
END:DAYLIGHT
BEGIN:STANDARD
TZOFFSETFROM:+0200
TZOFFSETTO:+0100
TZNAME:CET
DTSTART:20231029T010000
END:STANDARD
BEGIN:DAYLIGHT
TZOFFSETFROM:+0100
TZOFFSETTO:+0200
TZNAME:CEST
DTSTART:20240331T010000
END:DAYLIGHT
BEGIN:STANDARD
TZOFFSETFROM:+0200
TZOFFSETTO:+0100
TZNAME:CET
DTSTART:20241027T010000
END:STANDARD
BEGIN:DAYLIGHT
TZOFFSETFROM:+0100
TZOFFSETTO:+0200
TZNAME:CEST
DTSTART:20250330T010000
END:DAYLIGHT
BEGIN:STANDARD
TZOFFSETFROM:+0200
TZOFFSETTO:+0100
TZNAME:CET
DTSTART:20251026T010000
END:STANDARD
END:VTIMEZONE
BEGIN:VEVENT
DTSTART;TZID=Europe/Rome:20241207T153000
DTEND;TZID=Europe/Rome:20241207T153000
DTSTAMP:20260422T060146
CREATED:20241129T223911Z
LAST-MODIFIED:20241129T223911Z
UID:5881-1733585400-1733585400@passpartout.art
SUMMARY:Il robot selvaggio
DESCRIPTION:Film per bambini
URL:https://passpartout.art/evento/il-robot-selvaggio-2/
CATEGORIES:Cinema
END:VEVENT
BEGIN:VEVENT
DTSTART;TZID=Europe/Rome:20241214T210000
DTEND;TZID=Europe/Rome:20241214T210000
DTSTAMP:20260422T060146
CREATED:20241129T223912Z
LAST-MODIFIED:20241129T223912Z
UID:5882-1734210000-1734210000@passpartout.art
SUMMARY:Christmas MercASTRAtino
DESCRIPTION:Mercatino di Natale
URL:https://passpartout.art/evento/christmas-mercastratino/
CATEGORIES:Cinema
END:VEVENT
BEGIN:VEVENT
DTSTART;TZID=Europe/Rome:20241215T210000
DTEND;TZID=Europe/Rome:20241215T210000
DTSTAMP:20260422T060146
CREATED:20241129T223912Z
LAST-MODIFIED:20241129T223912Z
UID:5883-1734296400-1734296400@passpartout.art
SUMMARY:Christmas MercASTRAtino
DESCRIPTION:Mercatino di Natale
URL:https://passpartout.art/evento/christmas-mercastratino-2/
CATEGORIES:Cinema
END:VEVENT
BEGIN:VEVENT
DTSTART;TZID=Europe/Rome:20241221T153000
DTEND;TZID=Europe/Rome:20241221T153000
DTSTAMP:20260422T060146
CREATED:20241129T223913Z
LAST-MODIFIED:20241129T223913Z
UID:5884-1734795000-1734795000@passpartout.art
SUMMARY:La strega Rossella e Bastoncino
DESCRIPTION:Film per bambini + laboratorio natalizio
URL:https://passpartout.art/evento/la-strega-rossella-e-bastoncino/
CATEGORIES:Cinema
END:VEVENT
END:VCALENDAR