BEGIN:VCALENDAR
VERSION:2.0
PRODID:-//Passpartout - ECPv6.15.20//NONSGML v1.0//EN
CALSCALE:GREGORIAN
METHOD:PUBLISH
X-WR-CALNAME:Passpartout
X-ORIGINAL-URL:https://passpartout.art
X-WR-CALDESC:Eventi per Passpartout
REFRESH-INTERVAL;VALUE=DURATION:PT1H
X-Robots-Tag:noindex
X-PUBLISHED-TTL:PT1H
BEGIN:VTIMEZONE
TZID:Europe/Rome
BEGIN:DAYLIGHT
TZOFFSETFROM:+0100
TZOFFSETTO:+0200
TZNAME:CEST
DTSTART:20230326T010000
END:DAYLIGHT
BEGIN:STANDARD
TZOFFSETFROM:+0200
TZOFFSETTO:+0100
TZNAME:CET
DTSTART:20231029T010000
END:STANDARD
BEGIN:DAYLIGHT
TZOFFSETFROM:+0100
TZOFFSETTO:+0200
TZNAME:CEST
DTSTART:20240331T010000
END:DAYLIGHT
BEGIN:STANDARD
TZOFFSETFROM:+0200
TZOFFSETTO:+0100
TZNAME:CET
DTSTART:20241027T010000
END:STANDARD
BEGIN:DAYLIGHT
TZOFFSETFROM:+0100
TZOFFSETTO:+0200
TZNAME:CEST
DTSTART:20250330T010000
END:DAYLIGHT
BEGIN:STANDARD
TZOFFSETFROM:+0200
TZOFFSETTO:+0100
TZNAME:CET
DTSTART:20251026T010000
END:STANDARD
END:VTIMEZONE
BEGIN:VEVENT
DTSTART;TZID=Europe/Rome:20240203T151500
DTEND;TZID=Europe/Rome:20240203T151500
DTSTAMP:20260424T181622
CREATED:20240205T220319Z
LAST-MODIFIED:20240205T220319Z
UID:4206-1706973300-1706973300@passpartout.art
SUMMARY:WISH (Un cinema per amico)
DESCRIPTION:Pomeriggio al cinema. vieni a divertirti!
URL:https://passpartout.art/evento/wish-un-cinema-per-amico/
CATEGORIES:Cinema
END:VEVENT
BEGIN:VEVENT
DTSTART;TZID=Europe/Rome:20240210T151500
DTEND;TZID=Europe/Rome:20240210T151500
DTSTAMP:20260424T181622
CREATED:20240205T220319Z
LAST-MODIFIED:20240205T220319Z
UID:4207-1707578100-1707578100@passpartout.art
SUMMARY:AQUAMAN E IL REGNO PERDUTO (Un cinema per amico)
DESCRIPTION:Pomeriggio al cinema. vieni a divertirti!
URL:https://passpartout.art/evento/aquaman-e-il-regno-perduto-un-cinema-per-amico/
CATEGORIES:Cinema
END:VEVENT
BEGIN:VEVENT
DTSTART;TZID=Europe/Rome:20240217T151500
DTEND;TZID=Europe/Rome:20240217T151500
DTSTAMP:20260424T181622
CREATED:20240205T220319Z
LAST-MODIFIED:20240205T220319Z
UID:4208-1708182900-1708182900@passpartout.art
SUMMARY:YUKU E IL FIORE DELL’HIMALAYA (Un cinema per amico)
DESCRIPTION:Pomeriggio al cinema. vieni a divertirti!
URL:https://passpartout.art/evento/yuku-e-il-fiore-dellhimalaya-un-cinema-per-amico/
CATEGORIES:Cinema
END:VEVENT
BEGIN:VEVENT
DTSTART;TZID=Europe/Rome:20240224T151500
DTEND;TZID=Europe/Rome:20240224T151500
DTSTAMP:20260424T181622
CREATED:20240205T220319Z
LAST-MODIFIED:20240205T220319Z
UID:4209-1708787700-1708787700@passpartout.art
SUMMARY:PUFFIN ROCK – IL FILM (Un cinema per amico)
DESCRIPTION:Pomeriggio al cinema. vieni a divertirti!
URL:https://passpartout.art/evento/puffin-rock-il-film-un-cinema-per-amico/
CATEGORIES:Cinema
END:VEVENT
END:VCALENDAR