BEGIN:VCALENDAR
VERSION:2.0
PRODID:-//Passpartout - ECPv6.15.20//NONSGML v1.0//EN
CALSCALE:GREGORIAN
METHOD:PUBLISH
X-ORIGINAL-URL:https://passpartout.art
X-WR-CALDESC:Eventi per Passpartout
REFRESH-INTERVAL;VALUE=DURATION:PT1H
X-Robots-Tag:noindex
X-PUBLISHED-TTL:PT1H
BEGIN:VTIMEZONE
TZID:Europe/Rome
BEGIN:DAYLIGHT
TZOFFSETFROM:+0100
TZOFFSETTO:+0200
TZNAME:CEST
DTSTART:20240331T010000
END:DAYLIGHT
BEGIN:STANDARD
TZOFFSETFROM:+0200
TZOFFSETTO:+0100
TZNAME:CET
DTSTART:20241027T010000
END:STANDARD
BEGIN:DAYLIGHT
TZOFFSETFROM:+0100
TZOFFSETTO:+0200
TZNAME:CEST
DTSTART:20250330T010000
END:DAYLIGHT
BEGIN:STANDARD
TZOFFSETFROM:+0200
TZOFFSETTO:+0100
TZNAME:CET
DTSTART:20251026T010000
END:STANDARD
BEGIN:DAYLIGHT
TZOFFSETFROM:+0100
TZOFFSETTO:+0200
TZNAME:CEST
DTSTART:20260329T010000
END:DAYLIGHT
BEGIN:STANDARD
TZOFFSETFROM:+0200
TZOFFSETTO:+0100
TZNAME:CET
DTSTART:20261025T010000
END:STANDARD
END:VTIMEZONE
BEGIN:VEVENT
DTSTART;TZID=Europe/Rome:20251123T100000
DTEND;TZID=Europe/Rome:20251123T100000
DTSTAMP:20260423T225641
CREATED:20251030T134113Z
LAST-MODIFIED:20251030T134113Z
UID:7495-1763892000-1763892000@passpartout.art
SUMMARY:REMIDA - Centro di sperimentazione dei materiali di scarto
DESCRIPTION:REMIDA propone una varietà di materiali recuperati dalle fabbriche\, accuratamente selezionati e allestiti per coinvolgere bambini/e dai 12 mesi ai 5 anni. Dopo un primo momento di accoglienza iniziale gli educatori favoriscono il processo di gioco di bambini e bambine e allestiscono lo spazio in maniera funzionale all’esplorazione dei materiali.
URL:https://passpartout.art/evento/remida-centro-di-sperimentazione-dei-materiali-di-scarto-225/
CATEGORIES:Musei
END:VEVENT
BEGIN:VEVENT
DTSTART;TZID=Europe/Rome:20251123T100000
DTEND;TZID=Europe/Rome:20251123T100000
DTSTAMP:20260423T225641
CREATED:20251030T134228Z
LAST-MODIFIED:20251030T134228Z
UID:7522-1763892000-1763892000@passpartout.art
SUMMARY:Connessioni: scoprire noi\, il mondo e le relazioni.
DESCRIPTION:CONNESSIONI desidera esplorare le connessioni che regolano il mondo: legami visibili e invisibili dentro e fuori di noi\, tra parti del corpo umano\, tra azioni e conseguenze\, tra persone e saperi.
URL:https://passpartout.art/evento/connessioni-scoprire-noi-il-mondo-e-le-relazioni-21/
CATEGORIES:Musei
END:VEVENT
BEGIN:VEVENT
DTSTART;TZID=Europe/Rome:20251123T110000
DTEND;TZID=Europe/Rome:20251123T110000
DTSTAMP:20260423T225641
CREATED:20251030T133757Z
LAST-MODIFIED:20251030T133757Z
UID:7428-1763895600-1763895600@passpartout.art
SUMMARY:Villa Arconati: Apertura al pubblico
DESCRIPTION:Fondazione Augusto Rancilio è lieta di ospitarvi nella Villa delle Meraviglie! Nei giorni di apertura al pubblico è concesso l’accesso a tutti gli ambienti della Villa e del Giardino monumentale per vivere tutta la giornata come i nobili ospiti del tempo
URL:https://passpartout.art/evento/villa-arconati-apertura-al-pubblico-20/
CATEGORIES:Parchi ville monumenti
END:VEVENT
BEGIN:VEVENT
DTSTART;TZID=Europe/Rome:20251123T110000
DTEND;TZID=Europe/Rome:20251123T110000
DTSTAMP:20260423T225641
CREATED:20251030T133757Z
LAST-MODIFIED:20251030T133757Z
UID:7429-1763895600-1763895600@passpartout.art
SUMMARY:Villa Arconati: Apertura al pubblico
DESCRIPTION:Fondazione Augusto Rancilio è lieta di ospitarvi nella Villa delle Meraviglie! Nei giorni di apertura al pubblico è concesso l’accesso a tutti gli ambienti della Villa e del Giardino monumentale per vivere tutta la giornata come i nobili ospiti del tempo
URL:https://passpartout.art/evento/villa-arconati-apertura-al-pubblico-21/
CATEGORIES:Parchi ville monumenti
END:VEVENT
BEGIN:VEVENT
DTSTART;TZID=Europe/Rome:20251123T110000
DTEND;TZID=Europe/Rome:20251123T110000
DTSTAMP:20260423T225641
CREATED:20251030T133927Z
LAST-MODIFIED:20251030T133927Z
UID:7458-1763895600-1763895600@passpartout.art
SUMMARY:IL GIROTONDO DELL’ENERGIA
DESCRIPTION:Un laboratorio ispirato al libro “Il Girotondo dell’Energia”\, scritto e illustrato da Isabella Giorgini\, per scoprire come l’energia si muove tra tutti gli esseri viventi e dà forma alla rete della biodiversità. Insieme all’autrice seguiremo Cal\, una particella di energia\, tra ecosistemi e catene alimentari\, con letture\, giochi e sperimentazioni per capire quanto sia fragile e straordinario l’equilibrio della natura.\nAlla fine dell’incontro\, Isabella Giorgini sarà disponibile per dediche e disegni sui suoi libri acquistabili nel bookshop del museo.
URL:https://passpartout.art/evento/il-girotondo-dellenergia/
CATEGORIES:Planetari musei scientifici osservatori
END:VEVENT
BEGIN:VEVENT
DTSTART;TZID=Europe/Rome:20251123T113000
DTEND;TZID=Europe/Rome:20251123T113000
DTSTAMP:20260423T225641
CREATED:20251030T134116Z
LAST-MODIFIED:20251030T134116Z
UID:7496-1763897400-1763897400@passpartout.art
SUMMARY:REMIDA - Centro di sperimentazione dei materiali di scarto
DESCRIPTION:REMIDA propone una varietà di materiali recuperati dalle fabbriche\, accuratamente selezionati e allestiti per coinvolgere bambini/e dai 12 mesi ai 5 anni. Dopo un primo momento di accoglienza iniziale gli educatori favoriscono il processo di gioco di bambini e bambine e allestiscono lo spazio in maniera funzionale all’esplorazione dei materiali.
URL:https://passpartout.art/evento/remida-centro-di-sperimentazione-dei-materiali-di-scarto-226/
CATEGORIES:Musei
END:VEVENT
BEGIN:VEVENT
DTSTART;TZID=Europe/Rome:20251123T113000
DTEND;TZID=Europe/Rome:20251123T113000
DTSTAMP:20260423T225641
CREATED:20251030T134242Z
LAST-MODIFIED:20251030T134242Z
UID:7523-1763897400-1763897400@passpartout.art
SUMMARY:Connessioni: scoprire noi\, il mondo e le relazioni.
DESCRIPTION:CONNESSIONI desidera esplorare le connessioni che regolano il mondo: legami visibili e invisibili dentro e fuori di noi\, tra parti del corpo umano\, tra azioni e conseguenze\, tra persone e saperi.
URL:https://passpartout.art/evento/connessioni-scoprire-noi-il-mondo-e-le-relazioni-22/
CATEGORIES:Musei
END:VEVENT
BEGIN:VEVENT
DTSTART;TZID=Europe/Rome:20251123T143000
DTEND;TZID=Europe/Rome:20251123T143000
DTSTAMP:20260423T225641
CREATED:20251030T134118Z
LAST-MODIFIED:20251030T134118Z
UID:7497-1763908200-1763908200@passpartout.art
SUMMARY:REMIDA - Centro di sperimentazione dei materiali di scarto
DESCRIPTION:REMIDA propone una varietà di materiali recuperati dalle fabbriche\, accuratamente selezionati e allestiti per coinvolgere bambini/e dai 12 mesi ai 5 anni. Dopo un primo momento di accoglienza iniziale gli educatori favoriscono il processo di gioco di bambini e bambine e allestiscono lo spazio in maniera funzionale all’esplorazione dei materiali.
URL:https://passpartout.art/evento/remida-centro-di-sperimentazione-dei-materiali-di-scarto-227/
CATEGORIES:Musei
END:VEVENT
BEGIN:VEVENT
DTSTART;TZID=Europe/Rome:20251123T143000
DTEND;TZID=Europe/Rome:20251123T143000
DTSTAMP:20260423T225641
CREATED:20251030T134242Z
LAST-MODIFIED:20251030T134242Z
UID:7524-1763908200-1763908200@passpartout.art
SUMMARY:Connessioni: scoprire noi\, il mondo e le relazioni.
DESCRIPTION:CONNESSIONI desidera esplorare le connessioni che regolano il mondo: legami visibili e invisibili dentro e fuori di noi\, tra parti del corpo umano\, tra azioni e conseguenze\, tra persone e saperi.
URL:https://passpartout.art/evento/connessioni-scoprire-noi-il-mondo-e-le-relazioni-23/
CATEGORIES:Musei
END:VEVENT
BEGIN:VEVENT
DTSTART;TZID=Europe/Rome:20251123T150000
DTEND;TZID=Europe/Rome:20251123T150000
DTSTAMP:20260423T225641
CREATED:20251030T133927Z
LAST-MODIFIED:20251030T133927Z
UID:7459-1763910000-1763910000@passpartout.art
SUMMARY:IL GIROTONDO DELL’ENERGIA
DESCRIPTION:Un laboratorio ispirato al libro “Il Girotondo dell’Energia”\, scritto e illustrato da Isabella Giorgini\, per scoprire come l’energia si muove tra tutti gli esseri viventi e dà forma alla rete della biodiversità. Insieme all’autrice seguiremo Cal\, una particella di energia\, tra ecosistemi e catene alimentari\, con letture\, giochi e sperimentazioni per capire quanto sia fragile e straordinario l’equilibrio della natura.\nAlla fine dell’incontro\, Isabella Giorgini sarà disponibile per dediche e disegni sui suoi libri acquistabili nel bookshop del museo.
URL:https://passpartout.art/evento/il-girotondo-dellenergia-2/
CATEGORIES:Planetari musei scientifici osservatori
END:VEVENT
BEGIN:VEVENT
DTSTART;TZID=Europe/Rome:20251123T160000
DTEND;TZID=Europe/Rome:20251123T160000
DTSTAMP:20260423T225641
CREATED:20251030T133842Z
LAST-MODIFIED:20251030T133842Z
UID:7443-1763913600-1763913600@passpartout.art
SUMMARY:CHIMICI IGNOTI
DESCRIPTION:Un gameshow coinvolgente e adrenalinico\, in cui i concorrenti dovranno abbinare gli elementi della tavola periodica alle loro caratteristiche più curiose. Tra esperimenti\, suggerimenti e strategie sveleremo le identità nascoste degli atomi!
URL:https://passpartout.art/evento/chimici-ignoti-7/
CATEGORIES:Planetari musei scientifici osservatori
END:VEVENT
BEGIN:VEVENT
DTSTART;TZID=Europe/Rome:20251123T160000
DTEND;TZID=Europe/Rome:20251123T160000
DTSTAMP:20260423T225641
CREATED:20251030T134127Z
LAST-MODIFIED:20251030T134127Z
UID:7498-1763913600-1763913600@passpartout.art
SUMMARY:REMIDA - Centro di sperimentazione dei materiali di scarto
DESCRIPTION:REMIDA propone una varietà di materiali recuperati dalle fabbriche\, accuratamente selezionati e allestiti per coinvolgere bambini/e dai 12 mesi ai 5 anni. Dopo un primo momento di accoglienza iniziale gli educatori favoriscono il processo di gioco di bambini e bambine e allestiscono lo spazio in maniera funzionale all’esplorazione dei materiali.
URL:https://passpartout.art/evento/remida-centro-di-sperimentazione-dei-materiali-di-scarto-228/
CATEGORIES:Musei
END:VEVENT
BEGIN:VEVENT
DTSTART;TZID=Europe/Rome:20251123T160000
DTEND;TZID=Europe/Rome:20251123T160000
DTSTAMP:20260423T225641
CREATED:20251030T134243Z
LAST-MODIFIED:20251030T134243Z
UID:7525-1763913600-1763913600@passpartout.art
SUMMARY:Connessioni: scoprire noi\, il mondo e le relazioni.
DESCRIPTION:CONNESSIONI desidera esplorare le connessioni che regolano il mondo: legami visibili e invisibili dentro e fuori di noi\, tra parti del corpo umano\, tra azioni e conseguenze\, tra persone e saperi.
URL:https://passpartout.art/evento/connessioni-scoprire-noi-il-mondo-e-le-relazioni-24/
CATEGORIES:Musei
END:VEVENT
BEGIN:VEVENT
DTSTART;TZID=Europe/Rome:20251123T163000
DTEND;TZID=Europe/Rome:20251123T163000
DTSTAMP:20260423T225641
CREATED:20251030T133627Z
LAST-MODIFIED:20251030T133627Z
UID:7401-1763915400-1763915400@passpartout.art
SUMMARY:Piccino Picciò - PARSEC
DESCRIPTION:Viaggi piccoli piccoli piccolissimi. Viaggi grandi grandi grandissimi. Mappe che formano geografie quotidiane e straordinarie. Un passo. E che il viaggio abbia inizio!
URL:https://passpartout.art/evento/piccino-piccio-parsec/
LOCATION:Vimercate (MB)
CATEGORIES:Teatri
END:VEVENT
BEGIN:VEVENT
DTSTART;TZID=Europe/Rome:20251123T163000
DTEND;TZID=Europe/Rome:20251123T163000
DTSTAMP:20260423T225641
CREATED:20251030T134013Z
LAST-MODIFIED:20251030T134013Z
UID:7474-1763915400-1763915400@passpartout.art
SUMMARY:Racconto alla rovescia
DESCRIPTION:Un percorso di ricerca sulla fiaba\, con nuovi linguaggi narrativi e scenici adatti e neces¬sari\, per parole e contenuti\, a un pubblico di piccoli spettatori.
URL:https://passpartout.art/evento/racconto-alla-rovescia-4/
CATEGORIES:Teatri
END:VEVENT
BEGIN:VEVENT
DTSTART;TZID=Europe/Rome:20251123T173000
DTEND;TZID=Europe/Rome:20251123T173000
DTSTAMP:20260423T225641
CREATED:20251030T133628Z
LAST-MODIFIED:20251030T133628Z
UID:7402-1763919000-1763919000@passpartout.art
SUMMARY:Piccino Picciò - PARSEC
DESCRIPTION:Viaggi piccoli piccoli piccolissimi. Viaggi grandi grandi grandissimi. Mappe che formano geografie quotidiane e straordinarie. Un passo. E che il viaggio abbia inizio!
URL:https://passpartout.art/evento/piccino-piccio-parsec-2/
CATEGORIES:Teatri
END:VEVENT
END:VCALENDAR