BEGIN:VCALENDAR
VERSION:2.0
PRODID:-//Passpartout - ECPv6.15.20//NONSGML v1.0//EN
CALSCALE:GREGORIAN
METHOD:PUBLISH
X-WR-CALNAME:Passpartout
X-ORIGINAL-URL:https://passpartout.art
X-WR-CALDESC:Eventi per Passpartout
REFRESH-INTERVAL;VALUE=DURATION:PT1H
X-Robots-Tag:noindex
X-PUBLISHED-TTL:PT1H
BEGIN:VTIMEZONE
TZID:Europe/Rome
BEGIN:DAYLIGHT
TZOFFSETFROM:+0100
TZOFFSETTO:+0200
TZNAME:CEST
DTSTART:20240331T010000
END:DAYLIGHT
BEGIN:STANDARD
TZOFFSETFROM:+0200
TZOFFSETTO:+0100
TZNAME:CET
DTSTART:20241027T010000
END:STANDARD
BEGIN:DAYLIGHT
TZOFFSETFROM:+0100
TZOFFSETTO:+0200
TZNAME:CEST
DTSTART:20250330T010000
END:DAYLIGHT
BEGIN:STANDARD
TZOFFSETFROM:+0200
TZOFFSETTO:+0100
TZNAME:CET
DTSTART:20251026T010000
END:STANDARD
BEGIN:DAYLIGHT
TZOFFSETFROM:+0100
TZOFFSETTO:+0200
TZNAME:CEST
DTSTART:20260329T010000
END:DAYLIGHT
BEGIN:STANDARD
TZOFFSETFROM:+0200
TZOFFSETTO:+0100
TZNAME:CET
DTSTART:20261025T010000
END:STANDARD
END:VTIMEZONE
BEGIN:VEVENT
DTSTART;TZID=Europe/Rome:20251114T160000
DTEND;TZID=Europe/Rome:20251114T160000
DTSTAMP:20260424T023839
CREATED:20251030T133728Z
LAST-MODIFIED:20251030T133728Z
UID:7422-1763136000-1763136000@passpartout.art
SUMMARY:Costruiamo insieme… un aereoplano!
DESCRIPTION:Esplorando alcune sale del museo andremo alla scoperta di una delle più grandi invenzioni del ‘900: il volo! Potremo osservare l’aeroplano Nieuport-Macchi Ni.10: analizzeremo insieme com’ è fatto per poter poi realizzare un modellino di aereo in cartoncino da decorare. Pronti per decollare e volare con l’immaginazione?
URL:https://passpartout.art/evento/costruiamo-insieme-un-aereoplano-2/
CATEGORIES:Musei
END:VEVENT
BEGIN:VEVENT
DTSTART;TZID=Europe/Rome:20251114T170000
DTEND;TZID=Europe/Rome:20251114T170000
DTSTAMP:20260424T023839
CREATED:20251030T134313Z
LAST-MODIFIED:20251030T134313Z
UID:7535-1763139600-1763139600@passpartout.art
SUMMARY:Connessioni: scoprire noi\, il mondo e le relazioni.
DESCRIPTION:CONNESSIONI desidera esplorare le connessioni che regolano il mondo: legami visibili e invisibili dentro e fuori di noi\, tra parti del corpo umano\, tra azioni e conseguenze\, tra persone e saperi.
URL:https://passpartout.art/evento/connessioni-scoprire-noi-il-mondo-e-le-relazioni-34/
CATEGORIES:Musei
END:VEVENT
BEGIN:VEVENT
DTSTART;TZID=Europe/Rome:20251114T203000
DTEND;TZID=Europe/Rome:20251114T203000
DTSTAMP:20260424T023839
CREATED:20251030T133957Z
LAST-MODIFIED:20251030T133957Z
UID:7468-1763152200-1763152200@passpartout.art
SUMMARY:Pescatori di stelle
DESCRIPTION:Questa è la storia di un tempo\, un tempo molto tempo fa. Un tempo in cui nell’universo c’era una certa confusione. Un tempo in cui Giove era il dio del cielo\, Nettuno il dio del mare. Ma in quel tempo\, a volte\, il mare si rifletteva nel cielo. E il cielo nel mare.\nLe stelle non stavano al loro posto nel cielo. E i marinai che provavano\, nel loro navigare\, ad orientarsi con le stelle del cielo… si perdevano. Per questo c’erano La Signora Pescatrice e il Signor Pescatore di Stelle.
URL:https://passpartout.art/evento/pescatori-di-stelle-2/
CATEGORIES:Teatri
END:VEVENT
END:VCALENDAR