BEGIN:VCALENDAR
VERSION:2.0
PRODID:-//Passpartout - ECPv6.15.20//NONSGML v1.0//EN
CALSCALE:GREGORIAN
METHOD:PUBLISH
X-WR-CALNAME:Passpartout
X-ORIGINAL-URL:https://passpartout.art
X-WR-CALDESC:Eventi per Passpartout
REFRESH-INTERVAL;VALUE=DURATION:PT1H
X-Robots-Tag:noindex
X-PUBLISHED-TTL:PT1H
BEGIN:VTIMEZONE
TZID:Europe/Rome
BEGIN:DAYLIGHT
TZOFFSETFROM:+0100
TZOFFSETTO:+0200
TZNAME:CEST
DTSTART:20240331T010000
END:DAYLIGHT
BEGIN:STANDARD
TZOFFSETFROM:+0200
TZOFFSETTO:+0100
TZNAME:CET
DTSTART:20241027T010000
END:STANDARD
BEGIN:DAYLIGHT
TZOFFSETFROM:+0100
TZOFFSETTO:+0200
TZNAME:CEST
DTSTART:20250330T010000
END:DAYLIGHT
BEGIN:STANDARD
TZOFFSETFROM:+0200
TZOFFSETTO:+0100
TZNAME:CET
DTSTART:20251026T010000
END:STANDARD
BEGIN:DAYLIGHT
TZOFFSETFROM:+0100
TZOFFSETTO:+0200
TZNAME:CEST
DTSTART:20260329T010000
END:DAYLIGHT
BEGIN:STANDARD
TZOFFSETFROM:+0200
TZOFFSETTO:+0100
TZNAME:CET
DTSTART:20261025T010000
END:STANDARD
END:VTIMEZONE
BEGIN:VEVENT
DTSTART;TZID=Europe/Rome:20251031T110000
DTEND;TZID=Europe/Rome:20251031T110000
DTSTAMP:20260423T192451
CREATED:20251003T155006Z
LAST-MODIFIED:20251003T155006Z
UID:7346-1761908400-1761908400@passpartout.art
SUMMARY:Villa Arconati: Visita guidata speciale al giardino
DESCRIPTION:Una passeggiata guidata in cui godere dell’atmosfera del Giardino\, che ancora oggi mantiene intatto lo spirito con il quale fu costruito. Il percorso\, della durata indicativa di 75 min fornisce le principali informazioni storico-artistiche riguardo al Giardino e ai suoi elementi costitutivi\, illustra inoltre il progetto di restauro in corso – finanziato col bando PNRR – e gli obiettivi attesi per il futuro. L’attività si svolgerà prevalentemente all’aperto\, poiché coinvolgerà maggiormente il Giardino di Villa Arconati. A partire da quest’anno\, per la prima volta\, la visità permetterà l’accesso anche all’Ala delle Donne al piano nobile*. (*in caso di eventi particolari/shooting il percorso di visita potrebbe subire delle variazioni). Prezzi: Biglietto unico 10 €; Gratuito fino a 10 anni. Conservando questo biglietto si ha diritto ad acquistare il Ridotto sull’Apertura al Pubblico domenicale.
URL:https://passpartout.art/evento/villa-arconati-visita-guidata-speciale-al-giardino-8/
CATEGORIES:Parchi ville monumenti
END:VEVENT
BEGIN:VEVENT
DTSTART;TZID=Europe/Rome:20251031T163000
DTEND;TZID=Europe/Rome:20251031T163000
DTSTAMP:20260423T192451
CREATED:20251003T154936Z
LAST-MODIFIED:20251003T154936Z
UID:7338-1761928200-1761928200@passpartout.art
SUMMARY:Caccia ai fantasmi nel Castello
DESCRIPTION:Con l’arrivo di Halloween il castello è infestato da simpatici fantasmini bianchi. Si sono nascosti dappertutto\, nei torrioni\, nei cunicoli\, in cortile e persino nel pozzo e in tanti altri luoghi del castello: aspettano solo di essere trovati. Chi ci aiuta a scovarli? Chi riuscirà a trovarli tutti? Superata questa prova da brividi i bambini saranno proclamati “cacciatori e cacciatrici di fantasmi del castello di Rovereto”.
URL:https://passpartout.art/evento/caccia-ai-fantasmi-nel-castello-9/
CATEGORIES:Musei
END:VEVENT
END:VCALENDAR