BEGIN:VCALENDAR
VERSION:2.0
PRODID:-//Passpartout - ECPv6.15.20//NONSGML v1.0//EN
CALSCALE:GREGORIAN
METHOD:PUBLISH
X-ORIGINAL-URL:https://passpartout.art
X-WR-CALDESC:Eventi per Passpartout
REFRESH-INTERVAL;VALUE=DURATION:PT1H
X-Robots-Tag:noindex
X-PUBLISHED-TTL:PT1H
BEGIN:VTIMEZONE
TZID:Europe/Rome
BEGIN:DAYLIGHT
TZOFFSETFROM:+0100
TZOFFSETTO:+0200
TZNAME:CEST
DTSTART:20240331T010000
END:DAYLIGHT
BEGIN:STANDARD
TZOFFSETFROM:+0200
TZOFFSETTO:+0100
TZNAME:CET
DTSTART:20241027T010000
END:STANDARD
BEGIN:DAYLIGHT
TZOFFSETFROM:+0100
TZOFFSETTO:+0200
TZNAME:CEST
DTSTART:20250330T010000
END:DAYLIGHT
BEGIN:STANDARD
TZOFFSETFROM:+0200
TZOFFSETTO:+0100
TZNAME:CET
DTSTART:20251026T010000
END:STANDARD
BEGIN:DAYLIGHT
TZOFFSETFROM:+0100
TZOFFSETTO:+0200
TZNAME:CEST
DTSTART:20260329T010000
END:DAYLIGHT
BEGIN:STANDARD
TZOFFSETFROM:+0200
TZOFFSETTO:+0100
TZNAME:CET
DTSTART:20261025T010000
END:STANDARD
END:VTIMEZONE
BEGIN:VEVENT
DTSTART;TZID=Europe/Rome:20251026T110000
DTEND;TZID=Europe/Rome:20251026T110000
DTSTAMP:20260423T225723
CREATED:20251003T154921Z
LAST-MODIFIED:20251003T154921Z
UID:7333-1761476400-1761476400@passpartout.art
SUMMARY:Alla scoperta del museo e del castello
DESCRIPTION:Un percorso guidato ci accompagnerà in un viaggio nel passato\, ricco di giochi e scoperte. Muovendoci nelle sale del museo osserveremo oggetti\, immagini e documenti e scopriremo che dietro ad ogni oggetto si nascondono molte storie. Scopriremo come vivevano i soldati e la popolazione civile al tempo della Prima guerra mondiale\, attraverseremo gli spazi del Castello di Rovereto che da cento anni ospita il Museo\, tra torrioni\, cunicoli e terrazze con vista sulla città.
URL:https://passpartout.art/evento/alla-scoperta-del-museo-e-del-castello-23/
CATEGORIES:Musei
END:VEVENT
BEGIN:VEVENT
DTSTART;TZID=Europe/Rome:20251026T110000
DTEND;TZID=Europe/Rome:20251026T110000
DTSTAMP:20260423T225723
CREATED:20251003T154952Z
LAST-MODIFIED:20251003T154952Z
UID:7344-1761476400-1761476400@passpartout.art
SUMMARY:Villa Arconati: Apertura al pubblico
DESCRIPTION:Fondazione Augusto Rancilio è lieta di ospitarvi nella Villa delle Meraviglie! Nei giorni di apertura al pubblico è concesso l’accesso a tutti gli ambienti della Villa e del Giardino monumentale per vivere tutta la giornata come i nobili ospiti del tempo
URL:https://passpartout.art/evento/villa-arconati-apertura-al-pubblico-16/
CATEGORIES:Parchi ville monumenti
END:VEVENT
BEGIN:VEVENT
DTSTART;TZID=Europe/Rome:20251026T150000
DTEND;TZID=Europe/Rome:20251026T150000
DTSTAMP:20260423T225723
CREATED:20251003T154922Z
LAST-MODIFIED:20251003T154922Z
UID:7334-1761490800-1761490800@passpartout.art
SUMMARY:Alla scoperta del museo e del castello
DESCRIPTION:Un percorso guidato ci accompagnerà in un viaggio nel passato\, ricco di giochi e scoperte. Muovendoci nelle sale del museo osserveremo oggetti\, immagini e documenti e scopriremo che dietro ad ogni oggetto si nascondono molte storie. Scopriremo come vivevano i soldati e la popolazione civile al tempo della Prima guerra mondiale\, attraverseremo gli spazi del Castello di Rovereto che da cento anni ospita il Museo\, tra torrioni\, cunicoli e terrazze con vista sulla città.
URL:https://passpartout.art/evento/alla-scoperta-del-museo-e-del-castello-24/
CATEGORIES:Musei
END:VEVENT
BEGIN:VEVENT
DTSTART;TZID=Europe/Rome:20251026T160000
DTEND;TZID=Europe/Rome:20251026T160000
DTSTAMP:20260423T225723
CREATED:20251003T155036Z
LAST-MODIFIED:20251003T155036Z
UID:7358-1761494400-1761494400@passpartout.art
SUMMARY:REACTION SHOW
DESCRIPTION:Un incalzante susseguirsi di reazioni chimiche\, dinamico e divertente\, passando da cambi di colore a reazioni di ossidazione. Un percorso sulla conoscenza di reazioni chimiche comuni ma anche complesse\, realizzate in maniera scientificamente rigorosa ma scenograficamente spettacolare. Un crescendo coinvolgente che accompagna il pubblico dentro i meccanismi che spesso sono chiusi dentro un laboratorio e li proietta alla scoperta di ciò che avviene tra reagenti e composti chimici.
URL:https://passpartout.art/evento/reaction-show-6/
CATEGORIES:Planetari musei scientifici osservatori
END:VEVENT
END:VCALENDAR