BEGIN:VCALENDAR
VERSION:2.0
PRODID:-//Passpartout - ECPv6.15.20//NONSGML v1.0//EN
CALSCALE:GREGORIAN
METHOD:PUBLISH
X-WR-CALNAME:Passpartout
X-ORIGINAL-URL:https://passpartout.art
X-WR-CALDESC:Eventi per Passpartout
REFRESH-INTERVAL;VALUE=DURATION:PT1H
X-Robots-Tag:noindex
X-PUBLISHED-TTL:PT1H
BEGIN:VTIMEZONE
TZID:Europe/Rome
BEGIN:DAYLIGHT
TZOFFSETFROM:+0100
TZOFFSETTO:+0200
TZNAME:CEST
DTSTART:20240331T010000
END:DAYLIGHT
BEGIN:STANDARD
TZOFFSETFROM:+0200
TZOFFSETTO:+0100
TZNAME:CET
DTSTART:20241027T010000
END:STANDARD
BEGIN:DAYLIGHT
TZOFFSETFROM:+0100
TZOFFSETTO:+0200
TZNAME:CEST
DTSTART:20250330T010000
END:DAYLIGHT
BEGIN:STANDARD
TZOFFSETFROM:+0200
TZOFFSETTO:+0100
TZNAME:CET
DTSTART:20251026T010000
END:STANDARD
BEGIN:DAYLIGHT
TZOFFSETFROM:+0100
TZOFFSETTO:+0200
TZNAME:CEST
DTSTART:20260329T010000
END:DAYLIGHT
BEGIN:STANDARD
TZOFFSETFROM:+0200
TZOFFSETTO:+0100
TZNAME:CET
DTSTART:20261025T010000
END:STANDARD
END:VTIMEZONE
BEGIN:VEVENT
DTSTART;TZID=Europe/Rome:20251025T100000
DTEND;TZID=Europe/Rome:20251025T100000
DTSTAMP:20260423T192448
CREATED:20251003T155151Z
LAST-MODIFIED:20251003T155151Z
UID:7382-1761386400-1761386400@passpartout.art
SUMMARY:REMIDA - Centro di sperimentazione dei materiali di scarto
DESCRIPTION:REMIDA propone una varietà di materiali recuperati dalle fabbriche\, accuratamente selezionati e allestiti per coinvolgere bambini/e dai 12 mesi ai 5 anni. Dopo un primo momento di accoglienza iniziale gli educatori favoriscono il processo di gioco di bambini e bambine e allestiscono lo spazio in maniera funzionale all’esplorazione dei materiali.
URL:https://passpartout.art/evento/remida-centro-di-sperimentazione-dei-materiali-di-scarto-201/
CATEGORIES:Musei
END:VEVENT
BEGIN:VEVENT
DTSTART;TZID=Europe/Rome:20251025T113000
DTEND;TZID=Europe/Rome:20251025T113000
DTSTAMP:20260423T192448
CREATED:20251003T155151Z
LAST-MODIFIED:20251003T155151Z
UID:7383-1761391800-1761391800@passpartout.art
SUMMARY:REMIDA - Centro di sperimentazione dei materiali di scarto
DESCRIPTION:REMIDA propone una varietà di materiali recuperati dalle fabbriche\, accuratamente selezionati e allestiti per coinvolgere bambini/e dai 12 mesi ai 5 anni. Dopo un primo momento di accoglienza iniziale gli educatori favoriscono il processo di gioco di bambini e bambine e allestiscono lo spazio in maniera funzionale all’esplorazione dei materiali.
URL:https://passpartout.art/evento/remida-centro-di-sperimentazione-dei-materiali-di-scarto-202/
CATEGORIES:Musei
END:VEVENT
BEGIN:VEVENT
DTSTART;TZID=Europe/Rome:20251025T143000
DTEND;TZID=Europe/Rome:20251025T143000
DTSTAMP:20260423T192448
CREATED:20251003T155152Z
LAST-MODIFIED:20251003T155152Z
UID:7384-1761402600-1761402600@passpartout.art
SUMMARY:REMIDA - Centro di sperimentazione dei materiali di scarto
DESCRIPTION:REMIDA propone una varietà di materiali recuperati dalle fabbriche\, accuratamente selezionati e allestiti per coinvolgere bambini/e dai 12 mesi ai 5 anni. Dopo un primo momento di accoglienza iniziale gli educatori favoriscono il processo di gioco di bambini e bambine e allestiscono lo spazio in maniera funzionale all’esplorazione dei materiali.
URL:https://passpartout.art/evento/remida-centro-di-sperimentazione-dei-materiali-di-scarto-203/
CATEGORIES:Musei
END:VEVENT
BEGIN:VEVENT
DTSTART;TZID=Europe/Rome:20251025T150000
DTEND;TZID=Europe/Rome:20251025T150000
DTSTAMP:20260423T192448
CREATED:20251003T154936Z
LAST-MODIFIED:20251003T154936Z
UID:7337-1761404400-1761404400@passpartout.art
SUMMARY:Caccia ai fantasmi nel Castello
DESCRIPTION:Con l’arrivo di Halloween il castello è infestato da simpatici fantasmini bianchi. Si sono nascosti dappertutto\, nei torrioni\, nei cunicoli\, in cortile e persino nel pozzo e in tanti altri luoghi del castello: aspettano solo di essere trovati. Chi ci aiuta a scovarli? Chi riuscirà a trovarli tutti? Superata questa prova da brividi i bambini saranno proclamati “cacciatori e cacciatrici di fantasmi del castello di Rovereto”.
URL:https://passpartout.art/evento/caccia-ai-fantasmi-nel-castello-8/
CATEGORIES:Musei
END:VEVENT
BEGIN:VEVENT
DTSTART;TZID=Europe/Rome:20251025T160000
DTEND;TZID=Europe/Rome:20251025T160000
DTSTAMP:20260423T192448
CREATED:20251003T155036Z
LAST-MODIFIED:20251003T155036Z
UID:7357-1761408000-1761408000@passpartout.art
SUMMARY:REACTION SHOW
DESCRIPTION:Un incalzante susseguirsi di reazioni chimiche\, dinamico e divertente\, passando da cambi di colore a reazioni di ossidazione. Un percorso sulla conoscenza di reazioni chimiche comuni ma anche complesse\, realizzate in maniera scientificamente rigorosa ma scenograficamente spettacolare. Un crescendo coinvolgente che accompagna il pubblico dentro i meccanismi che spesso sono chiusi dentro un laboratorio e li proietta alla scoperta di ciò che avviene tra reagenti e composti chimici.
URL:https://passpartout.art/evento/reaction-show-5/
CATEGORIES:Planetari musei scientifici osservatori
END:VEVENT
BEGIN:VEVENT
DTSTART;TZID=Europe/Rome:20251025T160000
DTEND;TZID=Europe/Rome:20251025T160000
DTSTAMP:20260423T192448
CREATED:20251003T155205Z
LAST-MODIFIED:20251003T155205Z
UID:7385-1761408000-1761408000@passpartout.art
SUMMARY:REMIDA - Centro di sperimentazione dei materiali di scarto
DESCRIPTION:REMIDA propone una varietà di materiali recuperati dalle fabbriche\, accuratamente selezionati e allestiti per coinvolgere bambini/e dai 12 mesi ai 5 anni. Dopo un primo momento di accoglienza iniziale gli educatori favoriscono il processo di gioco di bambini e bambine e allestiscono lo spazio in maniera funzionale all’esplorazione dei materiali.
URL:https://passpartout.art/evento/remida-centro-di-sperimentazione-dei-materiali-di-scarto-204/
CATEGORIES:Musei
END:VEVENT
END:VCALENDAR