BEGIN:VCALENDAR
VERSION:2.0
PRODID:-//Passpartout - ECPv6.15.20//NONSGML v1.0//EN
CALSCALE:GREGORIAN
METHOD:PUBLISH
X-WR-CALNAME:Passpartout
X-ORIGINAL-URL:https://passpartout.art
X-WR-CALDESC:Eventi per Passpartout
REFRESH-INTERVAL;VALUE=DURATION:PT1H
X-Robots-Tag:noindex
X-PUBLISHED-TTL:PT1H
BEGIN:VTIMEZONE
TZID:Europe/Rome
BEGIN:DAYLIGHT
TZOFFSETFROM:+0100
TZOFFSETTO:+0200
TZNAME:CEST
DTSTART:20240331T010000
END:DAYLIGHT
BEGIN:STANDARD
TZOFFSETFROM:+0200
TZOFFSETTO:+0100
TZNAME:CET
DTSTART:20241027T010000
END:STANDARD
BEGIN:DAYLIGHT
TZOFFSETFROM:+0100
TZOFFSETTO:+0200
TZNAME:CEST
DTSTART:20250330T010000
END:DAYLIGHT
BEGIN:STANDARD
TZOFFSETFROM:+0200
TZOFFSETTO:+0100
TZNAME:CET
DTSTART:20251026T010000
END:STANDARD
BEGIN:DAYLIGHT
TZOFFSETFROM:+0100
TZOFFSETTO:+0200
TZNAME:CEST
DTSTART:20260329T010000
END:DAYLIGHT
BEGIN:STANDARD
TZOFFSETFROM:+0200
TZOFFSETTO:+0100
TZNAME:CET
DTSTART:20261025T010000
END:STANDARD
END:VTIMEZONE
BEGIN:VEVENT
DTSTART;TZID=Europe/Rome:20250924T110000
DTEND;TZID=Europe/Rome:20250924T110000
DTSTAMP:20260422T035300
CREATED:20250826T214059Z
LAST-MODIFIED:20250826T214059Z
UID:7290-1758711600-1758711600@passpartout.art
SUMMARY:Villa Arconati: Apertura al pubblico
DESCRIPTION:Fondazione Augusto Rancilio è lieta di ospitarvi nella Villa delle Meraviglie! Nei giorni di apertura al pubblico è concesso l’accesso a tutti gli ambienti della Villa e del Giardino monumentale per vivere tutta la giornata come i nobili ospiti del tempo
URL:https://passpartout.art/evento/villa-arconati-apertura-al-pubblico-11/
CATEGORIES:Parchi ville monumenti
END:VEVENT
END:VCALENDAR