BEGIN:VCALENDAR
VERSION:2.0
PRODID:-//Passpartout - ECPv6.15.20//NONSGML v1.0//EN
CALSCALE:GREGORIAN
METHOD:PUBLISH
X-ORIGINAL-URL:https://passpartout.art
X-WR-CALDESC:Eventi per Passpartout
REFRESH-INTERVAL;VALUE=DURATION:PT1H
X-Robots-Tag:noindex
X-PUBLISHED-TTL:PT1H
BEGIN:VTIMEZONE
TZID:Europe/Rome
BEGIN:DAYLIGHT
TZOFFSETFROM:+0100
TZOFFSETTO:+0200
TZNAME:CEST
DTSTART:20240331T010000
END:DAYLIGHT
BEGIN:STANDARD
TZOFFSETFROM:+0200
TZOFFSETTO:+0100
TZNAME:CET
DTSTART:20241027T010000
END:STANDARD
BEGIN:DAYLIGHT
TZOFFSETFROM:+0100
TZOFFSETTO:+0200
TZNAME:CEST
DTSTART:20250330T010000
END:DAYLIGHT
BEGIN:STANDARD
TZOFFSETFROM:+0200
TZOFFSETTO:+0100
TZNAME:CET
DTSTART:20251026T010000
END:STANDARD
BEGIN:DAYLIGHT
TZOFFSETFROM:+0100
TZOFFSETTO:+0200
TZNAME:CEST
DTSTART:20260329T010000
END:DAYLIGHT
BEGIN:STANDARD
TZOFFSETFROM:+0200
TZOFFSETTO:+0100
TZNAME:CET
DTSTART:20261025T010000
END:STANDARD
END:VTIMEZONE
BEGIN:VEVENT
DTSTART;TZID=Europe/Rome:20250913T110000
DTEND;TZID=Europe/Rome:20250913T110000
DTSTAMP:20260421T224649
CREATED:20250826T214115Z
LAST-MODIFIED:20250826T214115Z
UID:7298-1757761200-1757761200@passpartout.art
SUMMARY:ESPLOSIONI CHIMICHE
DESCRIPTION:Boom! Bam! Kra-Koom! Claps! Questi saranno i suoni di questa attività che vedrà i partecipanti realizzare una serie di esplosioni (in sicurezza!) per apprendere come si attivano\, grazie a un violento rilascio di energia termica o meccanica. Un’attività divertente con l’obiettivo di apprendere semplici concetti di sicurezza per evitare di trovarsi in brutte situazioni nella vita di tutti i giorni.
URL:https://passpartout.art/evento/esplosioni-chimiche/
CATEGORIES:Planetari musei scientifici osservatori
END:VEVENT
BEGIN:VEVENT
DTSTART;TZID=Europe/Rome:20250913T150000
DTEND;TZID=Europe/Rome:20250913T150000
DTSTAMP:20260421T224649
CREATED:20250826T214016Z
LAST-MODIFIED:20250826T214016Z
UID:7278-1757775600-1757775600@passpartout.art
SUMMARY:Costruiamo insieme...un castello!
DESCRIPTION:Com’è fatto un castello? Chi abitava nel castello di Rovereto? Esplorando i torrioni\, i cunicoli\, le cannoniere e gli spazi più nascosti del castello cercheremo di scoprirlo insieme. Armati di carta e cartoncino\, matite e forbici ogni bambino e bambina costruirà il proprio castello di carta\, che potrà diventare il luogo in cui ambientare mille avventure.
URL:https://passpartout.art/evento/costruiamo-insieme-un-castello-3/
CATEGORIES:Musei
END:VEVENT
BEGIN:VEVENT
DTSTART;TZID=Europe/Rome:20250913T160000
DTEND;TZID=Europe/Rome:20250913T160000
DTSTAMP:20260421T224649
CREATED:20250826T214129Z
LAST-MODIFIED:20250826T214129Z
UID:7299-1757779200-1757779200@passpartout.art
SUMMARY:REACTION SHOW
DESCRIPTION:Un incalzante susseguirsi di reazioni chimiche\, dinamico e divertente\, passando da cambi di colore a reazioni di ossidazione. Un percorso sulla conoscenza di reazioni chimiche comuni ma anche complesse\, realizzate in maniera scientificamente rigorosa ma scenograficamente spettacolare. Un crescendo coinvolgente che accompagna il pubblico dentro i meccanismi che spesso sono chiusi dentro un laboratorio e li proietta alla scoperta di ciò che avviene tra reagenti e composti chimici.
URL:https://passpartout.art/evento/reaction-show/
CATEGORIES:Planetari musei scientifici osservatori
END:VEVENT
BEGIN:VEVENT
DTSTART;TZID=Europe/Rome:20250913T173000
DTEND;TZID=Europe/Rome:20250913T173000
DTSTAMP:20260421T224649
CREATED:20250826T214129Z
LAST-MODIFIED:20250826T214129Z
UID:7300-1757784600-1757784600@passpartout.art
SUMMARY:ESPLOSIONI CHIMICHE
DESCRIPTION:Boom! Bam! Kra-Koom! Claps! Questi saranno i suoni di questa attività che vedrà i partecipanti realizzare una serie di esplosioni (in sicurezza!) per apprendere come si attivano\, grazie a un violento rilascio di energia termica o meccanica. Un’attività divertente con l’obiettivo di apprendere semplici concetti di sicurezza per evitare di trovarsi in brutte situazioni nella vita di tutti i giorni.
URL:https://passpartout.art/evento/esplosioni-chimiche-2/
CATEGORIES:Planetari musei scientifici osservatori
END:VEVENT
END:VCALENDAR