BEGIN:VCALENDAR
VERSION:2.0
PRODID:-//Passpartout - ECPv6.15.20//NONSGML v1.0//EN
CALSCALE:GREGORIAN
METHOD:PUBLISH
X-ORIGINAL-URL:https://passpartout.art
X-WR-CALDESC:Eventi per Passpartout
REFRESH-INTERVAL;VALUE=DURATION:PT1H
X-Robots-Tag:noindex
X-PUBLISHED-TTL:PT1H
BEGIN:VTIMEZONE
TZID:Europe/Rome
BEGIN:DAYLIGHT
TZOFFSETFROM:+0100
TZOFFSETTO:+0200
TZNAME:CEST
DTSTART:20240331T010000
END:DAYLIGHT
BEGIN:STANDARD
TZOFFSETFROM:+0200
TZOFFSETTO:+0100
TZNAME:CET
DTSTART:20241027T010000
END:STANDARD
BEGIN:DAYLIGHT
TZOFFSETFROM:+0100
TZOFFSETTO:+0200
TZNAME:CEST
DTSTART:20250330T010000
END:DAYLIGHT
BEGIN:STANDARD
TZOFFSETFROM:+0200
TZOFFSETTO:+0100
TZNAME:CET
DTSTART:20251026T010000
END:STANDARD
BEGIN:DAYLIGHT
TZOFFSETFROM:+0100
TZOFFSETTO:+0200
TZNAME:CEST
DTSTART:20260329T010000
END:DAYLIGHT
BEGIN:STANDARD
TZOFFSETFROM:+0200
TZOFFSETTO:+0100
TZNAME:CET
DTSTART:20261025T010000
END:STANDARD
END:VTIMEZONE
BEGIN:VEVENT
DTSTART;TZID=Europe/Rome:20250907T100000
DTEND;TZID=Europe/Rome:20250907T100000
DTSTAMP:20260422T035325
CREATED:20250826T214000Z
LAST-MODIFIED:20250826T214000Z
UID:7271-1757239200-1757239200@passpartout.art
SUMMARY:Mi sento Fortunato. Visita animata alla Casa d'Arte Futurista Depero
DESCRIPTION:Un percorso alla scoperta dell’arte e della vita di Fortunato Depero basato sull’uso di uno speciale mazzo di carte. I partecipanti potranno pescare la loro carta “fortunata” che li indirizzerà a contenuti e sperimentazioni diverse: dal viaggio dell’artista a New York alle marionette per il teatro\, dalla sua visione della città di Rovereto alla tecnica delle tarsie in panno e in buxus.
URL:https://passpartout.art/evento/mi-sento-fortunato-visita-animata-alla-casa-darte-futurista-depero-11/
CATEGORIES:Musei
END:VEVENT
BEGIN:VEVENT
DTSTART;TZID=Europe/Rome:20250907T100000
DTEND;TZID=Europe/Rome:20250907T100000
DTSTAMP:20260422T035325
CREATED:20250826T214000Z
LAST-MODIFIED:20250826T214000Z
UID:7273-1757239200-1757239200@passpartout.art
SUMMARY:Storie d'artista: Yayoi Kusama
DESCRIPTION:Proseguono gli appuntamenti con i libri per bambini dedicati ad alcuni dei maggiori artisti del ‘900. In questo laboratorio scopriremo la storia dell’artista giapponese Yayoi Kusama e del suo magico mondo di pois colorati.
URL:https://passpartout.art/evento/storie-dartista-yayoi-kusama/
CATEGORIES:Musei
END:VEVENT
BEGIN:VEVENT
DTSTART;TZID=Europe/Rome:20250907T110000
DTEND;TZID=Europe/Rome:20250907T110000
DTSTAMP:20260422T035325
CREATED:20250826T214031Z
LAST-MODIFIED:20250826T214031Z
UID:7283-1757242800-1757242800@passpartout.art
SUMMARY:Villa Arconati: Visita guidata speciale al giardino
DESCRIPTION:Una passeggiata guidata in cui godere dell’atmosfera del Giardino\, che ancora oggi mantiene intatto lo spirito con il quale fu costruito. Il percorso\, della durata indicativa di 75 min fornisce le principali informazioni storico-artistiche riguardo al Giardino e ai suoi elementi costitutivi\, illustra inoltre il progetto di restauro in corso – finanziato col bando PNRR – e gli obiettivi attesi per il futuro. L’attività si svolgerà prevalentemente all’aperto\, poiché coinvolgerà maggiormente il Giardino di Villa Arconati. A partire da quest’anno\, per la prima volta\, la visità permetterà l’accesso anche all’Ala delle Donne al piano nobile*. (*in caso di eventi particolari/shooting il percorso di visita potrebbe subire delle variazioni). Prezzi: Biglietto unico 10 €; Gratuito fino a 10 anni. Conservando questo biglietto si ha diritto ad acquistare il Ridotto sull’Apertura al Pubblico domenicale.
URL:https://passpartout.art/evento/villa-arconati-visita-guidata-speciale-al-giardino/
CATEGORIES:Parchi ville monumenti
END:VEVENT
BEGIN:VEVENT
DTSTART;TZID=Europe/Rome:20250907T150000
DTEND;TZID=Europe/Rome:20250907T150000
DTSTAMP:20260422T035325
CREATED:20250826T214014Z
LAST-MODIFIED:20250826T214014Z
UID:7275-1757257200-1757257200@passpartout.art
SUMMARY:Il libro delle nuvole
DESCRIPTION:Creiamo un libro che ha per tema le molte forme delle nuvole. Ogni pagina permette di sperimentare un modo diverso di rappresentare le nubi: graficamente\, con materiali tattili\, giocando con sovrapposizioni e trasparenze\, riflettendo sugli aspetti sensoriali che il tentativo di “fissare” sul foglio un oggetto inafferrabile come il vapore acqueo comporta.
URL:https://passpartout.art/evento/il-libro-delle-nuvole/
CATEGORIES:Musei
END:VEVENT
BEGIN:VEVENT
DTSTART;TZID=Europe/Rome:20250907T160000
DTEND;TZID=Europe/Rome:20250907T160000
DTSTAMP:20260422T035325
CREATED:20250826T214115Z
LAST-MODIFIED:20250826T214115Z
UID:7296-1757260800-1757260800@passpartout.art
SUMMARY:CHIMICI IGNOTI
DESCRIPTION:Un gameshow coinvolgente e adrenalinico\, in cui i concorrenti dovranno abbinare gli elementi della tavola periodica alle loro caratteristiche più curiose. Tra esperimenti\, suggerimenti e strategie sveleremo le identità nascoste degli atomi!
URL:https://passpartout.art/evento/chimici-ignoti-2/
CATEGORIES:Planetari musei scientifici osservatori
END:VEVENT
BEGIN:VEVENT
DTSTART;TZID=Europe/Rome:20250907T173000
DTEND;TZID=Europe/Rome:20250907T173000
DTSTAMP:20260422T035325
CREATED:20250826T214115Z
LAST-MODIFIED:20250826T214115Z
UID:7297-1757266200-1757266200@passpartout.art
SUMMARY:SLIME E ALTRE SCHIFEZZE
DESCRIPTION:Gelatinosi\, viscidi\, appiccicosi! La chimica può realizzare materiali con consistenze veramente diverse e produrre sostanze con cui giocare in totale sicurezza. Un laboratorio incentrato su sostanze dalla consistenza particolare per scoprirne i loro segreti\, come farli e portare a casa della chimica Hand Made!
URL:https://passpartout.art/evento/slime-e-altre-schifezze-2/
CATEGORIES:Planetari musei scientifici osservatori
END:VEVENT
END:VCALENDAR