BEGIN:VCALENDAR
VERSION:2.0
PRODID:-//Passpartout - ECPv6.15.20//NONSGML v1.0//EN
CALSCALE:GREGORIAN
METHOD:PUBLISH
X-WR-CALNAME:Passpartout
X-ORIGINAL-URL:https://passpartout.art
X-WR-CALDESC:Eventi per Passpartout
REFRESH-INTERVAL;VALUE=DURATION:PT1H
X-Robots-Tag:noindex
X-PUBLISHED-TTL:PT1H
BEGIN:VTIMEZONE
TZID:Europe/Rome
BEGIN:DAYLIGHT
TZOFFSETFROM:+0100
TZOFFSETTO:+0200
TZNAME:CEST
DTSTART:20240331T010000
END:DAYLIGHT
BEGIN:STANDARD
TZOFFSETFROM:+0200
TZOFFSETTO:+0100
TZNAME:CET
DTSTART:20241027T010000
END:STANDARD
BEGIN:DAYLIGHT
TZOFFSETFROM:+0100
TZOFFSETTO:+0200
TZNAME:CEST
DTSTART:20250330T010000
END:DAYLIGHT
BEGIN:STANDARD
TZOFFSETFROM:+0200
TZOFFSETTO:+0100
TZNAME:CET
DTSTART:20251026T010000
END:STANDARD
BEGIN:DAYLIGHT
TZOFFSETFROM:+0100
TZOFFSETTO:+0200
TZNAME:CEST
DTSTART:20260329T010000
END:DAYLIGHT
BEGIN:STANDARD
TZOFFSETFROM:+0200
TZOFFSETTO:+0100
TZNAME:CET
DTSTART:20261025T010000
END:STANDARD
END:VTIMEZONE
BEGIN:VEVENT
DTSTART;TZID=Europe/Rome:20250708T110000
DTEND;TZID=Europe/Rome:20250814T153000
DTSTAMP:20260421T104921
CREATED:20250704T143110Z
LAST-MODIFIED:20250704T143853Z
UID:6821-1751972400-1755185400@passpartout.art
SUMMARY:TOUR DISCOVER CITTADELLA
DESCRIPTION:Dal martedì al venerdì\, per tutto il mese\, tour alla scoperta dei 3 monumenti principali del centro storico.\nPalazzo Pretorio\, Teatro Sociale\, Museo del Duomo\nOrari di partenza del Tour: 11 – 12:30 – 14 – 15:30 dall’Ufficio Turistico IAT in Porte Bassanesi\nCosto € 10 a persona per 4 ingressi\nIl costo include:\n– il biglietto d’ingresso ai 3 monumenti\n– l’operatore culturale che vi accompagna\n– l’ingresso alle Mura\, da svolgersi autonomamente o prima o dopo il tour\nSenza prenotazione\, 4 partenze garantite al giorno\nPresentarsi in IAT 10 minuti prima dell’inizio del tour scelto\nInfo: cittadella@historiatravel.it
URL:https://passpartout.art/evento/tour-discover-cittadella-2/
CATEGORIES:monumenti,Parchi,ville
END:VEVENT
BEGIN:VEVENT
DTSTART;TZID=Europe/Rome:20250721T083000
DTEND;TZID=Europe/Rome:20250725T160000
DTSTAMP:20260421T104921
CREATED:20250704T142815Z
LAST-MODIFIED:20250704T142815Z
UID:6777-1753086600-1753459200@passpartout.art
SUMMARY:CAMPUS ESTIVO 2025 Cascina Battivacco
DESCRIPTION:Sei pronto a vivere giornate immerso nella natura\, seguendo i ritmi lenti della Cascina?\nIl nostro Agri Campus è proprio questo… esperienze a misura di bambino!
URL:https://passpartout.art/evento/campus-estivo-2025-cascina-battivacco-6/
CATEGORIES:Parchi ville monumenti
END:VEVENT
BEGIN:VEVENT
DTSTART;TZID=Europe/Rome:20250721T083000
DTEND;TZID=Europe/Rome:20250725T160000
DTSTAMP:20260421T104921
CREATED:20250704T143009Z
LAST-MODIFIED:20250704T143009Z
UID:6801-1753086600-1753459200@passpartout.art
SUMMARY:“Buon compleanno\, MUSME! Storie di grandi medici”
DESCRIPTION:Anche quest’anno il MUSME ha previsto delle settimane di Centri Estivi piene di giochi\, esperimenti e laboratori per passare insieme un’estate divertente ed educativa! Nel decimo anniversario del Museo\, celebriamo le figure storiche che hanno reso grande la storia della medicina a Padova e le loro straordinarie scoperte!
URL:https://passpartout.art/evento/buon-compleanno-musme-storie-di-grandi-medici-3/
CATEGORIES:Musei
END:VEVENT
BEGIN:VEVENT
DTSTART;TZID=Europe/Rome:20250721T090000
DTEND;TZID=Europe/Rome:20250725T163000
DTSTAMP:20260421T104921
CREATED:20250704T142940Z
LAST-MODIFIED:20250704T142940Z
UID:6792-1753088400-1753461000@passpartout.art
SUMMARY:CAMPUS ESTIVI 2025
DESCRIPTION:Anche quest’anno il Teatro del Buratto propone i suoi campus estivi teatrali\, sei settimane di creatività\, gioco e scoperta per bambine\, bambini\, ragazze e ragazzi
URL:https://passpartout.art/evento/campus-estivi-2025-7/
CATEGORIES:Teatri
END:VEVENT
BEGIN:VEVENT
DTSTART;TZID=Europe/Rome:20250722T103000
DTEND;TZID=Europe/Rome:20250722T103000
DTSTAMP:20260421T104921
CREATED:20250704T143024Z
LAST-MODIFIED:20250704T143024Z
UID:6806-1753180200-1753180200@passpartout.art
SUMMARY:Alla scoperta del museo e del castello
DESCRIPTION:Un percorso guidato ci accompagnerà in un viaggio nel passato\, ricco di giochi e scoperte. Muovendoci nelle sale del museo osserveremo oggetti\, immagini e documenti e scopriremo che dietro ad ogni oggetto si nascondono molte storie. Scopriremo come vivevano i soldati e la popolazione civile al tempo della Prima guerra mondiale\, attraverseremo gli spazi del Castello di Rovereto che da cento anni ospita il Museo\, tra torrioni\, cunicoli e terrazze con vista sulla città.
URL:https://passpartout.art/evento/alla-scoperta-del-museo-e-del-castello-14/
CATEGORIES:Musei
END:VEVENT
BEGIN:VEVENT
DTSTART;TZID=Europe/Rome:20250722T110000
DTEND;TZID=Europe/Rome:20250725T153000
DTSTAMP:20260421T104921
CREATED:20250704T143111Z
LAST-MODIFIED:20250704T143111Z
UID:6823-1753182000-1753457400@passpartout.art
SUMMARY:TOUR DISCOVER CITTADELLA
DESCRIPTION:Dal martedì al venerdì\, per tutto il mese\, tour alla scoperta dei 3 monumenti principali del centro storico.\n Palazzo Pretorio\, Teatro Sociale\, Museo del Duomo\n Orari di partenza del Tour: 11 – 12:30 – 14 – 15:30 dall’Ufficio Turistico IAT in Porte Bassanesi\n Costo € 10 a persona per 4 ingressi\n Il costo include:\n – il biglietto d’ingresso ai 3 monumenti\n – l’operatore culturale che vi accompagna\n – l’ingresso alle Mura\, da svolgersi autonomamente o prima o dopo il tour\n Senza prenotazione\, 4 partenze garantite al giorno\n Presentarsi in IAT 10 minuti prima dell’inizio del tour scelto\n Info: cittadella@historiatravel.it
URL:https://passpartout.art/evento/tour-discover-cittadella-4/
CATEGORIES:monumenti,Parchi,ville
END:VEVENT
BEGIN:VEVENT
DTSTART;TZID=Europe/Rome:20250722T190000
DTEND;TZID=Europe/Rome:20250722T190000
DTSTAMP:20260421T104921
CREATED:20250704T142820Z
LAST-MODIFIED:20250704T142820Z
UID:6781-1753210800-1753210800@passpartout.art
SUMMARY:Concerto al tramonto - Jaineros Trio
DESCRIPTION:“Serate musicali all’anfiteatro”… per cantare\, ballare e divertirci insieme al tramonto nelle serate d’estate al Parco! Il 22 luglio “Jaineros Trio” – Jazz\, Bossa Nova e brani italiani arrangiati in chiave Jazz
URL:https://passpartout.art/evento/concerto-al-tramonto-jaineros-trio/
CATEGORIES:Parchi ville monumenti
END:VEVENT
BEGIN:VEVENT
DTSTART;TZID=Europe/Rome:20250722T203000
DTEND;TZID=Europe/Rome:20250722T203000
DTSTAMP:20260421T104921
CREATED:20250704T143126Z
LAST-MODIFIED:20250704T143126Z
UID:6829-1753216200-1753216200@passpartout.art
SUMMARY:ANTICHE MURA TEATRO FESTIVAL
DESCRIPTION:Spettacoli teatrali a cura di Teatro Bresci.\n Al Teatro all’Aperto in Campo della Marta. (in caso di maltempo in Villa Rina)\n Ingresso ad offerta libera\n Pre spettacolo 20.30\n Spettacolo 21.30\n www.antichemurateatrofestival.com
URL:https://passpartout.art/evento/antiche-mura-teatro-festival-4/
CATEGORIES:monumenti,Parchi,ville
END:VEVENT
END:VCALENDAR