BEGIN:VCALENDAR
VERSION:2.0
PRODID:-//Passpartout - ECPv6.15.20//NONSGML v1.0//EN
CALSCALE:GREGORIAN
METHOD:PUBLISH
X-ORIGINAL-URL:https://passpartout.art
X-WR-CALDESC:Eventi per Passpartout
REFRESH-INTERVAL;VALUE=DURATION:PT1H
X-Robots-Tag:noindex
X-PUBLISHED-TTL:PT1H
BEGIN:VTIMEZONE
TZID:Europe/Rome
BEGIN:DAYLIGHT
TZOFFSETFROM:+0100
TZOFFSETTO:+0200
TZNAME:CEST
DTSTART:20240331T010000
END:DAYLIGHT
BEGIN:STANDARD
TZOFFSETFROM:+0200
TZOFFSETTO:+0100
TZNAME:CET
DTSTART:20241027T010000
END:STANDARD
BEGIN:DAYLIGHT
TZOFFSETFROM:+0100
TZOFFSETTO:+0200
TZNAME:CEST
DTSTART:20250330T010000
END:DAYLIGHT
BEGIN:STANDARD
TZOFFSETFROM:+0200
TZOFFSETTO:+0100
TZNAME:CET
DTSTART:20251026T010000
END:STANDARD
BEGIN:DAYLIGHT
TZOFFSETFROM:+0100
TZOFFSETTO:+0200
TZNAME:CEST
DTSTART:20260329T010000
END:DAYLIGHT
BEGIN:STANDARD
TZOFFSETFROM:+0200
TZOFFSETTO:+0100
TZNAME:CET
DTSTART:20261025T010000
END:STANDARD
END:VTIMEZONE
BEGIN:VEVENT
DTSTART;TZID=Europe/Rome:20250707T083000
DTEND;TZID=Europe/Rome:20250711T140000
DTSTAMP:20260421T173842
CREATED:20250704T143010Z
LAST-MODIFIED:20250704T143010Z
UID:6802-1751877000-1752242400@passpartout.art
SUMMARY:SCIENCE WEEK
DESCRIPTION:Un’entusiasmante esperienza estiva per ragazze e ragazzi dai 10 ai 13 anni\, tra attività laboratoriali\, esperimenti scientifici e momenti di divertimento! I ragazzi e le ragazze trascorreranno una settimana tra laboratori ed esperimenti legati al mondo delle discipline STEM e​ al metodo scientifico
URL:https://passpartout.art/evento/science-week-2/
CATEGORIES:Musei
END:VEVENT
BEGIN:VEVENT
DTSTART;TZID=Europe/Rome:20250707T083000
DTEND;TZID=Europe/Rome:20250711T160000
DTSTAMP:20260421T173842
CREATED:20250704T142814Z
LAST-MODIFIED:20250704T142814Z
UID:6775-1751877000-1752249600@passpartout.art
SUMMARY:CAMPUS ESTIVO 2025 Cascina Battivacco
DESCRIPTION:Sei pronto a vivere giornate immerso nella natura\, seguendo i ritmi lenti della Cascina?\nIl nostro Agri Campus è proprio questo… esperienze a misura di bambino!
URL:https://passpartout.art/evento/campus-estivo-2025-cascina-battivacco-4/
CATEGORIES:Parchi ville monumenti
END:VEVENT
BEGIN:VEVENT
DTSTART;TZID=Europe/Rome:20250707T083000
DTEND;TZID=Europe/Rome:20250711T160000
DTSTAMP:20260421T173842
CREATED:20250704T142956Z
LAST-MODIFIED:20250704T142956Z
UID:6799-1751877000-1752249600@passpartout.art
SUMMARY:“A tutto cuore! Viaggio nel sistema circolatorio”
DESCRIPTION:Anche quest’anno il MUSME ha previsto delle settimane di Centri Estivi piene di giochi\, esperimenti e laboratori per passare insieme un’estate divertente ed educativa! Partiamo per un viaggio straordinario nel corpo umano per scoprire com’è fatto il cuore\, cosa c’è nel sangue e il percorso incredibile della circolazione!
URL:https://passpartout.art/evento/a-tutto-cuore-viaggio-nel-sistema-circolatorio-2/
CATEGORIES:Musei
END:VEVENT
BEGIN:VEVENT
DTSTART;TZID=Europe/Rome:20250707T083000
DTEND;TZID=Europe/Rome:20250711T160000
DTSTAMP:20260421T173842
CREATED:20250704T143010Z
LAST-MODIFIED:20250704T143010Z
UID:6803-1751877000-1752249600@passpartout.art
SUMMARY:SCIENCE WEEK
DESCRIPTION:Un’entusiasmante esperienza estiva per ragazze e ragazzi dai 10 ai 13 anni\, tra attività laboratoriali\, esperimenti scientifici e momenti di divertimento! I ragazzi e le ragazze trascorreranno una settimana tra laboratori ed esperimenti legati al mondo delle discipline STEM e​ al metodo scientifico
URL:https://passpartout.art/evento/science-week-3/
CATEGORIES:Musei
END:VEVENT
BEGIN:VEVENT
DTSTART;TZID=Europe/Rome:20250707T084500
DTEND;TZID=Europe/Rome:20250711T163000
DTSTAMP:20260421T173842
CREATED:20250704T143040Z
LAST-MODIFIED:20250704T143040Z
UID:6813-1751877900-1752251400@passpartout.art
SUMMARY:CAMPUS ESTIVI AL DUOMO - “Duomo a cinque sensi”
DESCRIPTION:Per l’estate sono in programma i coinvolgenti Campus settimanali del Duomo\, rivolti a bambini dai 6 ai 10 anni\, all’insegna dell’arte e della creatività.
URL:https://passpartout.art/evento/campus-estivi-al-duomo-duomo-a-cinque-sensi-2/
CATEGORIES:Musei
END:VEVENT
BEGIN:VEVENT
DTSTART;TZID=Europe/Rome:20250707T090000
DTEND;TZID=Europe/Rome:20250711T163000
DTSTAMP:20260421T173842
CREATED:20250704T142939Z
LAST-MODIFIED:20250704T142939Z
UID:6790-1751878800-1752251400@passpartout.art
SUMMARY:CAMPUS ESTIVI 2025
DESCRIPTION:Anche quest’anno il Teatro del Buratto propone i suoi campus estivi teatrali\, sei settimane di creatività\, gioco e scoperta per bambine\, bambini\, ragazze e ragazzi
URL:https://passpartout.art/evento/campus-estivi-2025-5/
CATEGORIES:Teatri
END:VEVENT
BEGIN:VEVENT
DTSTART;TZID=Europe/Rome:20250708T110000
DTEND;TZID=Europe/Rome:20250814T153000
DTSTAMP:20260421T173842
CREATED:20250704T143110Z
LAST-MODIFIED:20250704T143853Z
UID:6821-1751972400-1755185400@passpartout.art
SUMMARY:TOUR DISCOVER CITTADELLA
DESCRIPTION:Dal martedì al venerdì\, per tutto il mese\, tour alla scoperta dei 3 monumenti principali del centro storico.\nPalazzo Pretorio\, Teatro Sociale\, Museo del Duomo\nOrari di partenza del Tour: 11 – 12:30 – 14 – 15:30 dall’Ufficio Turistico IAT in Porte Bassanesi\nCosto € 10 a persona per 4 ingressi\nIl costo include:\n– il biglietto d’ingresso ai 3 monumenti\n– l’operatore culturale che vi accompagna\n– l’ingresso alle Mura\, da svolgersi autonomamente o prima o dopo il tour\nSenza prenotazione\, 4 partenze garantite al giorno\nPresentarsi in IAT 10 minuti prima dell’inizio del tour scelto\nInfo: cittadella@historiatravel.it
URL:https://passpartout.art/evento/tour-discover-cittadella-2/
CATEGORIES:monumenti,Parchi,ville
END:VEVENT
BEGIN:VEVENT
DTSTART;TZID=Europe/Rome:20250710T080000
DTEND;TZID=Europe/Rome:20250710T080000
DTSTAMP:20260421T173842
CREATED:20250704T143210Z
LAST-MODIFIED:20250704T143210Z
UID:6842-1752134400-1752134400@passpartout.art
SUMMARY:MERCATO KM0
DESCRIPTION:Mercato degli agricoltori e produtori del cittadellese. Presso: piazza Pierobon
URL:https://passpartout.art/evento/mercato-km0/
CATEGORIES:monumenti,Parchi,ville
END:VEVENT
BEGIN:VEVENT
DTSTART;TZID=Europe/Rome:20250710T180000
DTEND;TZID=Europe/Rome:20250710T180000
DTSTAMP:20260421T173842
CREATED:20250704T143026Z
LAST-MODIFIED:20250704T143026Z
UID:6809-1752170400-1752170400@passpartout.art
SUMMARY:Castelli in Aria
DESCRIPTION:“Non fare castelli in aria!” ci viene detto per evitare di volare troppo in alto con la fantasia. Questa volta invece\, i castelli li costruiamo sognando ad occhi aperti e usando carta e tantissimi colori! Lasciamo posto alla fantasia per realizzare un castello da appendere in camera oppure… tra le nuvole!
URL:https://passpartout.art/evento/castelli-in-aria-3/
CATEGORIES:Musei
END:VEVENT
BEGIN:VEVENT
DTSTART;TZID=Europe/Rome:20250710T203000
DTEND;TZID=Europe/Rome:20250710T203000
DTSTAMP:20260421T173842
CREATED:20250704T142821Z
LAST-MODIFIED:20250704T142821Z
UID:6784-1752179400-1752179400@passpartout.art
SUMMARY:Le avventure di Tom Sawyer
DESCRIPTION:Spettacolo teatrale per bambini ispirato al celebre romanzo di Mark Twain nella splendida cornice del parco giochi di Salter
URL:https://passpartout.art/evento/le-avventure-di-tom-sawyer/
CATEGORIES:Teatri
END:VEVENT
BEGIN:VEVENT
DTSTART;TZID=Europe/Rome:20250710T210000
DTEND;TZID=Europe/Rome:20250710T210000
DTSTAMP:20260421T173842
CREATED:20250704T142941Z
LAST-MODIFIED:20250704T142941Z
UID:6793-1752181200-1752181200@passpartout.art
SUMMARY:Concerto Eugenio in Via Di Gioia
DESCRIPTION:Concerto degli Eugenio in Via di Gioia in tour dopo l’uscita del loro ultimo album “L’amore è tutto” che racconta un viaggio emozionale che mostra come l’amore sia il filo conduttore che lega ogni esperienza umana
URL:https://passpartout.art/evento/concerto-eugenio-in-via-di-gioia/
CATEGORIES:Parchi ville monumenti
END:VEVENT
END:VCALENDAR