BEGIN:VCALENDAR
VERSION:2.0
PRODID:-//Passpartout - ECPv6.15.20//NONSGML v1.0//EN
CALSCALE:GREGORIAN
METHOD:PUBLISH
X-WR-CALNAME:Passpartout
X-ORIGINAL-URL:https://passpartout.art
X-WR-CALDESC:Eventi per Passpartout
REFRESH-INTERVAL;VALUE=DURATION:PT1H
X-Robots-Tag:noindex
X-PUBLISHED-TTL:PT1H
BEGIN:VTIMEZONE
TZID:Europe/Rome
BEGIN:DAYLIGHT
TZOFFSETFROM:+0100
TZOFFSETTO:+0200
TZNAME:CEST
DTSTART:20240331T010000
END:DAYLIGHT
BEGIN:STANDARD
TZOFFSETFROM:+0200
TZOFFSETTO:+0100
TZNAME:CET
DTSTART:20241027T010000
END:STANDARD
BEGIN:DAYLIGHT
TZOFFSETFROM:+0100
TZOFFSETTO:+0200
TZNAME:CEST
DTSTART:20250330T010000
END:DAYLIGHT
BEGIN:STANDARD
TZOFFSETFROM:+0200
TZOFFSETTO:+0100
TZNAME:CET
DTSTART:20251026T010000
END:STANDARD
BEGIN:DAYLIGHT
TZOFFSETFROM:+0100
TZOFFSETTO:+0200
TZNAME:CEST
DTSTART:20260329T010000
END:DAYLIGHT
BEGIN:STANDARD
TZOFFSETFROM:+0200
TZOFFSETTO:+0100
TZNAME:CET
DTSTART:20261025T010000
END:STANDARD
END:VTIMEZONE
BEGIN:VEVENT
DTSTART;TZID=Europe/Rome:20250630T083000
DTEND;TZID=Europe/Rome:20250704T160000
DTSTAMP:20260421T104922
CREATED:20250529T181246Z
LAST-MODIFIED:20250529T181246Z
UID:6683-1751272200-1751644800@passpartout.art
SUMMARY:Campus estivi
DESCRIPTION:Ogni settimana di campus al MUBA è diversa\, entusiasmante\, coinvolgente. Lo staff di educatori ha la capacità di adattare rapidamente le attività quotidiane alle caratteristiche del gruppo dei partecipanti proponendo un percorso ogni settimana differente per garantire la massima libertà espressiva e creativa di tutti i partecipanti.
URL:https://passpartout.art/evento/campus-estivi-2/
CATEGORIES:Musei
END:VEVENT
BEGIN:VEVENT
DTSTART;TZID=Europe/Rome:20250630T083000
DTEND;TZID=Europe/Rome:20250704T160000
DTSTAMP:20260421T104922
CREATED:20250529T181303Z
LAST-MODIFIED:20250529T181303Z
UID:6692-1751272200-1751644800@passpartout.art
SUMMARY:“Buon compleanno\, MUSME! Storie di grandi medici”
DESCRIPTION:Nel decimo anniversario del Museo\, celebriamo le figure storiche che hanno reso grande la storia della medicina a Padova e le loro straordinarie scoperte!
URL:https://passpartout.art/evento/buon-compleanno-musme-storie-di-grandi-medici-2/
CATEGORIES:Musei
END:VEVENT
BEGIN:VEVENT
DTSTART;TZID=Europe/Rome:20250630T083000
DTEND;TZID=Europe/Rome:20250704T160000
DTSTAMP:20260421T104922
CREATED:20250529T181317Z
LAST-MODIFIED:20250529T181317Z
UID:6696-1751272200-1751644800@passpartout.art
SUMMARY:MED WEEK
DESCRIPTION:Una settimana di laboratori e workshop legati al corpo umano\, alle discipline​ mediche e alle scienze della salute.
URL:https://passpartout.art/evento/med-week/
CATEGORIES:Musei
END:VEVENT
BEGIN:VEVENT
DTSTART;TZID=Europe/Rome:20250630T083000
DTEND;TZID=Europe/Rome:20250704T160000
DTSTAMP:20260421T104922
CREATED:20250529T181402Z
LAST-MODIFIED:20250529T181402Z
UID:6710-1751272200-1751644800@passpartout.art
SUMMARY:CAMPUS ESTIVI AL DUOMO- “Let’s play with Duomo”
DESCRIPTION:Per l’estate sono inoltre in programma i coinvolgenti Campus settimanali del Duomo\, rivolti a bambini dai 6 ai 10 anni\, all’insegna dell’arte e della creatività.
URL:https://passpartout.art/evento/campus-estivi-al-duomo-lets-play-with-duomo-2/
CATEGORIES:Musei
END:VEVENT
BEGIN:VEVENT
DTSTART;TZID=Europe/Rome:20250630T083000
DTEND;TZID=Europe/Rome:20250704T160000
DTSTAMP:20260421T104922
CREATED:20250529T181417Z
LAST-MODIFIED:20250529T181417Z
UID:6716-1751272200-1751644800@passpartout.art
SUMMARY:CAMPUS ESTIVO 2025 Cascina Battivacco
DESCRIPTION:Sei pronto a vivere giornate immerso nella natura\, seguendo i ritmi lenti della Cascina?\nIl nostro Agri Campus è proprio questo… esperienze a misura di bambino!
URL:https://passpartout.art/evento/campus-estivo-2025-cascina-battivacco-3/
CATEGORIES:Parchi ville monumenti
END:VEVENT
BEGIN:VEVENT
DTSTART;TZID=Europe/Rome:20250630T083000
DTEND;TZID=Europe/Rome:20250704T160000
DTSTAMP:20260421T104922
CREATED:20250529T181446Z
LAST-MODIFIED:20250529T181446Z
UID:6723-1751272200-1751644800@passpartout.art
SUMMARY:CAMPUS ESTIVI 2025
DESCRIPTION:Anche quest’anno il Teatro del Buratto propone i suoi campus estivi teatrali\, sei settimane di creatività\, gioco e scoperta per bambine\, bambini\, ragazze e ragazzi
URL:https://passpartout.art/evento/campus-estivi-2025-4/
CATEGORIES:Teatri
END:VEVENT
BEGIN:VEVENT
DTSTART;TZID=Europe/Rome:20250630T090000
DTEND;TZID=Europe/Rome:20250704T153000
DTSTAMP:20260421T104922
CREATED:20250529T181502Z
LAST-MODIFIED:20250704T143041Z
UID:6730-1751274000-1751643000@passpartout.art
SUMMARY:TUTTI IN SCENA!\nCAMPUS DI TEATRO
DESCRIPTION:Il teatro è uno spazio magico dove la sperimentazione\, l’immaginazione\, l’azione e soprattutto la relazione con gli altri sono elementi che mescolati tra loro rendono possibili piccole magie che daranno prova del talento dei nostri giovani attori. Durante il percorso\, i ragazzi saranno invitati a scoprire e testare cosa significhi lo “stare in scena” per approcciarsi\, in un secondo momento\, alla creazione di uno spettacolo collettivo con il quale incantare gli spettatori.
URL:https://passpartout.art/evento/tutti-in-scenacampus-di-teatro-2/
CATEGORIES:Teatri
END:VEVENT
BEGIN:VEVENT
DTSTART;TZID=Europe/Rome:20250701T110000
DTEND;TZID=Europe/Rome:20250704T153000
DTSTAMP:20260421T104922
CREATED:20250704T143109Z
LAST-MODIFIED:20250704T143109Z
UID:6820-1751367600-1751643000@passpartout.art
SUMMARY:TOUR DISCOVER CITTADELLA
DESCRIPTION:Dal martedì al venerdì\, per tutto il mese\, tour alla scoperta dei 3 monumenti principali del centro storico.\n Palazzo Pretorio\, Teatro Sociale\, Museo del Duomo\n Orari di partenza del Tour: 11 – 12:30 – 14 – 15:30 dall’Ufficio Turistico IAT in Porte Bassanesi\n Costo € 10 a persona per 4 ingressi\n Il costo include:\n – il biglietto d’ingresso ai 3 monumenti\n – l’operatore culturale che vi accompagna\n – l’ingresso alle Mura\, da svolgersi autonomamente o prima o dopo il tour\n Senza prenotazione\, 4 partenze garantite al giorno\n Presentarsi in IAT 10 minuti prima dell’inizio del tour scelto\n Info: cittadella@historiatravel.it
URL:https://passpartout.art/evento/tour-discover-cittadella/
CATEGORIES:monumenti,Parchi,ville
END:VEVENT
BEGIN:VEVENT
DTSTART;TZID=Europe/Rome:20250703T203000
DTEND;TZID=Europe/Rome:20250703T203000
DTSTAMP:20260421T104922
CREATED:20250704T142821Z
LAST-MODIFIED:20250704T142821Z
UID:6783-1751574600-1751574600@passpartout.art
SUMMARY:Alla ricerca del Re Sentiunpo'
DESCRIPTION:Spettacolo teatrale per bambini ispirato ad una fiaba musicale nella splendida cornice del parco giochi di Malgolo
URL:https://passpartout.art/evento/alla-ricerca-del-re-sentiunpo/
CATEGORIES:Teatri
END:VEVENT
END:VCALENDAR