BEGIN:VCALENDAR
VERSION:2.0
PRODID:-//Passpartout - ECPv6.15.20//NONSGML v1.0//EN
CALSCALE:GREGORIAN
METHOD:PUBLISH
X-WR-CALNAME:Passpartout
X-ORIGINAL-URL:https://passpartout.art
X-WR-CALDESC:Eventi per Passpartout
REFRESH-INTERVAL;VALUE=DURATION:PT1H
X-Robots-Tag:noindex
X-PUBLISHED-TTL:PT1H
BEGIN:VTIMEZONE
TZID:Europe/Rome
BEGIN:DAYLIGHT
TZOFFSETFROM:+0100
TZOFFSETTO:+0200
TZNAME:CEST
DTSTART:20240331T010000
END:DAYLIGHT
BEGIN:STANDARD
TZOFFSETFROM:+0200
TZOFFSETTO:+0100
TZNAME:CET
DTSTART:20241027T010000
END:STANDARD
BEGIN:DAYLIGHT
TZOFFSETFROM:+0100
TZOFFSETTO:+0200
TZNAME:CEST
DTSTART:20250330T010000
END:DAYLIGHT
BEGIN:STANDARD
TZOFFSETFROM:+0200
TZOFFSETTO:+0100
TZNAME:CET
DTSTART:20251026T010000
END:STANDARD
BEGIN:DAYLIGHT
TZOFFSETFROM:+0100
TZOFFSETTO:+0200
TZNAME:CEST
DTSTART:20260329T010000
END:DAYLIGHT
BEGIN:STANDARD
TZOFFSETFROM:+0200
TZOFFSETTO:+0100
TZNAME:CET
DTSTART:20261025T010000
END:STANDARD
END:VTIMEZONE
BEGIN:VEVENT
DTSTART;TZID=Europe/Rome:20250601T100000
DTEND;TZID=Europe/Rome:20250601T100000
DTSTAMP:20260423T035634
CREATED:20250529T180926Z
LAST-MODIFIED:20250529T180926Z
UID:6614-1748772000-1748772000@passpartout.art
SUMMARY:Mi sento Fortunato. Visita animata alla Casa d'Arte Futurista Depero
DESCRIPTION:Un percorso alla scoperta dell’arte e della vita di Fortunato Depero basato sull’uso di uno speciale mazzo di carte. I partecipanti potranno pescare la loro carta “fortunata” che li indirizzerà a contenuti e sperimentazioni diverse: dal viaggio dell’artista a New York alle marionette per il teatro\, dalla sua visione della città di Rovereto alla tecnica delle tarsie in panno e in buxus.
URL:https://passpartout.art/evento/mi-sento-fortunato-visita-animata-alla-casa-darte-futurista-depero-9/
CATEGORIES:Musei
END:VEVENT
BEGIN:VEVENT
DTSTART;TZID=Europe/Rome:20250601T100000
DTEND;TZID=Europe/Rome:20250601T100000
DTSTAMP:20260423T035634
CREATED:20250529T180926Z
LAST-MODIFIED:20250529T180926Z
UID:6615-1748772000-1748772000@passpartout.art
SUMMARY:Little Mart | Respirare al museo
DESCRIPTION:Questo laboratorio invita bambine e bambini a esplorare al mostra Style Is Life di Daniele Tamagni sperimentando una serie di esercizi di rilassamento corporeo\, recettività sensoriale e concentrazione che si ispirano alle pratiche del medico svizzero Roger Vittoz.
URL:https://passpartout.art/evento/little-mart-respirare-al-museo/
CATEGORIES:Musei
END:VEVENT
BEGIN:VEVENT
DTSTART;TZID=Europe/Rome:20250601T100000
DTEND;TZID=Europe/Rome:20250601T100000
DTSTAMP:20260423T035634
CREATED:20250529T180931Z
LAST-MODIFIED:20250529T180931Z
UID:6621-1748772000-1748772000@passpartout.art
SUMMARY:REMIDA - Centro di sperimentazione dei materiali di scarto
DESCRIPTION:REMIDA propone una varietà di materiali recuperati dalle fabbriche\, accuratamente selezionati e allestiti per coinvolgere bambini/e dai 12 mesi ai 5 anni. Dopo un primo momento di accoglienza iniziale gli educatori favoriscono il processo di gioco di bambini e bambine e allestiscono lo spazio in maniera funzionale all’esplorazione dei materiali.
URL:https://passpartout.art/evento/remida-centro-di-sperimentazione-dei-materiali-di-scarto-133/
CATEGORIES:Musei
END:VEVENT
BEGIN:VEVENT
DTSTART;TZID=Europe/Rome:20250601T100000
DTEND;TZID=Europe/Rome:20250601T100000
DTSTAMP:20260423T035634
CREATED:20250529T181118Z
LAST-MODIFIED:20250529T181118Z
UID:6657-1748772000-1748772000@passpartout.art
SUMMARY:Colore - Mostra-gioco interattiva
DESCRIPTION:Mostra-gioco per sperimentare ed imparare ad usare correttamentei colori e le luci; e le emozioni che questi sono in grado di suscitare!
URL:https://passpartout.art/evento/colore-mostra-gioco-interattiva-143/
CATEGORIES:Musei
END:VEVENT
BEGIN:VEVENT
DTSTART;TZID=Europe/Rome:20250601T113000
DTEND;TZID=Europe/Rome:20250601T113000
DTSTAMP:20260423T035634
CREATED:20250529T180932Z
LAST-MODIFIED:20250529T180932Z
UID:6622-1748777400-1748777400@passpartout.art
SUMMARY:REMIDA - Centro di sperimentazione dei materiali di scarto
DESCRIPTION:REMIDA propone una varietà di materiali recuperati dalle fabbriche\, accuratamente selezionati e allestiti per coinvolgere bambini/e dai 12 mesi ai 5 anni. Dopo un primo momento di accoglienza iniziale gli educatori favoriscono il processo di gioco di bambini e bambine e allestiscono lo spazio in maniera funzionale all’esplorazione dei materiali.
URL:https://passpartout.art/evento/remida-centro-di-sperimentazione-dei-materiali-di-scarto-134/
CATEGORIES:Musei
END:VEVENT
BEGIN:VEVENT
DTSTART;TZID=Europe/Rome:20250601T113000
DTEND;TZID=Europe/Rome:20250601T113000
DTSTAMP:20260423T035634
CREATED:20250529T181131Z
LAST-MODIFIED:20250529T181131Z
UID:6658-1748777400-1748777400@passpartout.art
SUMMARY:Colore - Mostra-gioco interattiva
DESCRIPTION:Mostra-gioco per sperimentare ed imparare ad usare correttamentei colori e le luci; e le emozioni che questi sono in grado di suscitare!
URL:https://passpartout.art/evento/colore-mostra-gioco-interattiva-144/
CATEGORIES:Musei
END:VEVENT
BEGIN:VEVENT
DTSTART;TZID=Europe/Rome:20250601T140000
DTEND;TZID=Europe/Rome:20250601T140000
DTSTAMP:20260423T035634
CREATED:20250529T181301Z
LAST-MODIFIED:20250529T181301Z
UID:6689-1748786400-1748786400@passpartout.art
SUMMARY:IL TESORO TRA LE ROSE
DESCRIPTION:Tra rose\, glicini\, alberi e labirinti\, risolvi tutti gli indizi e rispondi correttamente alle domande: solo così potrai conquistare il tesoro!\nChi è pronto ad avventurarsi nel parco?
URL:https://passpartout.art/evento/il-tesoro-tra-le-rose/
CATEGORIES:Parchi ville monumenti
END:VEVENT
BEGIN:VEVENT
DTSTART;TZID=Europe/Rome:20250601T143000
DTEND;TZID=Europe/Rome:20250601T143000
DTSTAMP:20260423T035634
CREATED:20250529T180945Z
LAST-MODIFIED:20250529T180945Z
UID:6623-1748788200-1748788200@passpartout.art
SUMMARY:REMIDA - Centro di sperimentazione dei materiali di scarto
DESCRIPTION:REMIDA propone una varietà di materiali recuperati dalle fabbriche\, accuratamente selezionati e allestiti per coinvolgere bambini/e dai 12 mesi ai 5 anni. Dopo un primo momento di accoglienza iniziale gli educatori favoriscono il processo di gioco di bambini e bambine e allestiscono lo spazio in maniera funzionale all’esplorazione dei materiali.
URL:https://passpartout.art/evento/remida-centro-di-sperimentazione-dei-materiali-di-scarto-135/
CATEGORIES:Musei
END:VEVENT
BEGIN:VEVENT
DTSTART;TZID=Europe/Rome:20250601T143000
DTEND;TZID=Europe/Rome:20250601T143000
DTSTAMP:20260423T035634
CREATED:20250529T181131Z
LAST-MODIFIED:20250529T181131Z
UID:6659-1748788200-1748788200@passpartout.art
SUMMARY:Colore - Mostra-gioco interattiva
DESCRIPTION:Mostra-gioco per sperimentare ed imparare ad usare correttamentei colori e le luci; e le emozioni che questi sono in grado di suscitare!
URL:https://passpartout.art/evento/colore-mostra-gioco-interattiva-145/
CATEGORIES:Musei
END:VEVENT
BEGIN:VEVENT
DTSTART;TZID=Europe/Rome:20250601T150000
DTEND;TZID=Europe/Rome:20250601T150000
DTSTAMP:20260423T035634
CREATED:20250529T180927Z
LAST-MODIFIED:20250529T180927Z
UID:6616-1748790000-1748790000@passpartout.art
SUMMARY:Little Mart | Collage tattili
DESCRIPTION:La tecnica del collage si presta a molteplici interpretazioni. In questo laboratorio sperimentiamo l’uso di materiali ruvidi\, soffici\, granulosi o vellutati per creare composizioni di forme e colori dalle spiccate caratteristiche tattili.
URL:https://passpartout.art/evento/little-mart-collage-tattili-4/
CATEGORIES:Musei
END:VEVENT
BEGIN:VEVENT
DTSTART;TZID=Europe/Rome:20250601T160000
DTEND;TZID=Europe/Rome:20250601T160000
DTSTAMP:20260423T035634
CREATED:20250529T180946Z
LAST-MODIFIED:20250529T180946Z
UID:6624-1748793600-1748793600@passpartout.art
SUMMARY:REMIDA - Centro di sperimentazione dei materiali di scarto
DESCRIPTION:REMIDA propone una varietà di materiali recuperati dalle fabbriche\, accuratamente selezionati e allestiti per coinvolgere bambini/e dai 12 mesi ai 5 anni. Dopo un primo momento di accoglienza iniziale gli educatori favoriscono il processo di gioco di bambini e bambine e allestiscono lo spazio in maniera funzionale all’esplorazione dei materiali.
URL:https://passpartout.art/evento/remida-centro-di-sperimentazione-dei-materiali-di-scarto-136/
CATEGORIES:Musei
END:VEVENT
BEGIN:VEVENT
DTSTART;TZID=Europe/Rome:20250601T160000
DTEND;TZID=Europe/Rome:20250601T160000
DTSTAMP:20260423T035634
CREATED:20250529T181132Z
LAST-MODIFIED:20250529T181132Z
UID:6660-1748793600-1748793600@passpartout.art
SUMMARY:Colore - Mostra-gioco interattiva
DESCRIPTION:Mostra-gioco per sperimentare ed imparare ad usare correttamentei colori e le luci; e le emozioni che questi sono in grado di suscitare!
URL:https://passpartout.art/evento/colore-mostra-gioco-interattiva-146/
CATEGORIES:Musei
END:VEVENT
END:VCALENDAR