BEGIN:VCALENDAR
VERSION:2.0
PRODID:-//Passpartout - ECPv6.15.20//NONSGML v1.0//EN
CALSCALE:GREGORIAN
METHOD:PUBLISH
X-ORIGINAL-URL:https://passpartout.art
X-WR-CALDESC:Eventi per Passpartout
REFRESH-INTERVAL;VALUE=DURATION:PT1H
X-Robots-Tag:noindex
X-PUBLISHED-TTL:PT1H
BEGIN:VTIMEZONE
TZID:Europe/Rome
BEGIN:DAYLIGHT
TZOFFSETFROM:+0100
TZOFFSETTO:+0200
TZNAME:CEST
DTSTART:20240331T010000
END:DAYLIGHT
BEGIN:STANDARD
TZOFFSETFROM:+0200
TZOFFSETTO:+0100
TZNAME:CET
DTSTART:20241027T010000
END:STANDARD
BEGIN:DAYLIGHT
TZOFFSETFROM:+0100
TZOFFSETTO:+0200
TZNAME:CEST
DTSTART:20250330T010000
END:DAYLIGHT
BEGIN:STANDARD
TZOFFSETFROM:+0200
TZOFFSETTO:+0100
TZNAME:CET
DTSTART:20251026T010000
END:STANDARD
BEGIN:DAYLIGHT
TZOFFSETFROM:+0100
TZOFFSETTO:+0200
TZNAME:CEST
DTSTART:20260329T010000
END:DAYLIGHT
BEGIN:STANDARD
TZOFFSETFROM:+0200
TZOFFSETTO:+0100
TZNAME:CET
DTSTART:20261025T010000
END:STANDARD
END:VTIMEZONE
BEGIN:VEVENT
DTSTART;TZID=Europe/Rome:20250501T100000
DTEND;TZID=Europe/Rome:20250504T190000
DTSTAMP:20260420T105747
CREATED:20250430T221811Z
LAST-MODIFIED:20250430T221811Z
UID:6594-1746093600-1746385200@passpartout.art
SUMMARY:Aperture NO STOP - Active book
DESCRIPTION:Per i visitatori più piccoli percorso ACTIVE BOOK per esplorare la storia del volo attraverso giochi ed esperienze e per scoprire quanto è bella e fantasiosa la natura attraverso la “caccia all’albero”
URL:https://passpartout.art/evento/aperture-no-stop-active-book/
CATEGORIES:Parchi ville monumenti
END:VEVENT
BEGIN:VEVENT
DTSTART;TZID=Europe/Rome:20250504T100000
DTEND;TZID=Europe/Rome:20250504T100000
DTSTAMP:20260420T105747
CREATED:20250430T221440Z
LAST-MODIFIED:20250430T221440Z
UID:6524-1746352800-1746352800@passpartout.art
SUMMARY:Mi sento Fortunato. Visita animata alla Casa d'Arte Futurista Depero
DESCRIPTION:Un percorso alla scoperta dell’arte e della vita di Fortunato Depero basato sull’uso di uno speciale mazzo di carte. I partecipanti potranno pescare la loro carta “fortunata” che li indirizzerà a contenuti e sperimentazioni diverse: dal viaggio dell’artista a New York alle marionette per il teatro\, dalla sua visione della città di Rovereto alla tecnica delle tarsie in panno e in buxus.
URL:https://passpartout.art/evento/mi-sento-fortunato-visita-animata-alla-casa-darte-futurista-depero-8/
CATEGORIES:Musei
END:VEVENT
BEGIN:VEVENT
DTSTART;TZID=Europe/Rome:20250504T100000
DTEND;TZID=Europe/Rome:20250504T100000
DTSTAMP:20260420T105747
CREATED:20250430T221442Z
LAST-MODIFIED:20250430T221442Z
UID:6528-1746352800-1746352800@passpartout.art
SUMMARY:Little Mart | Rosso e blu
DESCRIPTION:Il rosso\, tradizionalmente\, è abbinato all’idea di pura energia. È un colore che convoglia forza\, capace di irradiarsi in tutto il corpo. Il blu\, invece\, viene interpretato come un’immersione nella calma\, nella serenità e nella pace interiore. Due colori agli antipodi. Cosa succede quando li si mette in relazione?\nIn questo laboratorio sperimenteremo diversi giochi compositivi con questa formidabile coppia di colori.
URL:https://passpartout.art/evento/little-mart-rosso-e-blu-3/
CATEGORIES:Musei
END:VEVENT
BEGIN:VEVENT
DTSTART;TZID=Europe/Rome:20250504T100000
DTEND;TZID=Europe/Rome:20250504T100000
DTSTAMP:20260420T105747
CREATED:20250430T221510Z
LAST-MODIFIED:20250430T221510Z
UID:6534-1746352800-1746352800@passpartout.art
SUMMARY:REMIDA - Centro di sperimentazione dei materiali di scarto
DESCRIPTION:REMIDA propone una varietà di materiali recuperati dalle fabbriche\, accuratamente selezionati e allestiti per coinvolgere bambini/e dai 12 mesi ai 5 anni. Dopo un primo momento di accoglienza iniziale gli educatori favoriscono il processo di gioco di bambini e bambine e allestiscono lo spazio in maniera funzionale all’esplorazione dei materiali.
URL:https://passpartout.art/evento/remida-centro-di-sperimentazione-dei-materiali-di-scarto-109/
CATEGORIES:Musei
END:VEVENT
BEGIN:VEVENT
DTSTART;TZID=Europe/Rome:20250504T100000
DTEND;TZID=Europe/Rome:20250504T100000
DTSTAMP:20260420T105747
CREATED:20250430T221627Z
LAST-MODIFIED:20250430T221627Z
UID:6562-1746352800-1746352800@passpartout.art
SUMMARY:Colore - Mostra-gioco interattiva
DESCRIPTION:Mostra-gioco per sperimentare ed imparare ad usare correttamentei colori e le luci; e le emozioni che questi sono in grado di suscitare!
URL:https://passpartout.art/evento/colore-mostra-gioco-interattiva-119/
CATEGORIES:Musei
END:VEVENT
BEGIN:VEVENT
DTSTART;TZID=Europe/Rome:20250504T113000
DTEND;TZID=Europe/Rome:20250504T113000
DTSTAMP:20260420T105747
CREATED:20250430T221511Z
LAST-MODIFIED:20250430T221511Z
UID:6535-1746358200-1746358200@passpartout.art
SUMMARY:REMIDA - Centro di sperimentazione dei materiali di scarto
DESCRIPTION:REMIDA propone una varietà di materiali recuperati dalle fabbriche\, accuratamente selezionati e allestiti per coinvolgere bambini/e dai 12 mesi ai 5 anni. Dopo un primo momento di accoglienza iniziale gli educatori favoriscono il processo di gioco di bambini e bambine e allestiscono lo spazio in maniera funzionale all’esplorazione dei materiali.
URL:https://passpartout.art/evento/remida-centro-di-sperimentazione-dei-materiali-di-scarto-110/
CATEGORIES:Musei
END:VEVENT
BEGIN:VEVENT
DTSTART;TZID=Europe/Rome:20250504T113000
DTEND;TZID=Europe/Rome:20250504T113000
DTSTAMP:20260420T105747
CREATED:20250430T221628Z
LAST-MODIFIED:20250430T221628Z
UID:6563-1746358200-1746358200@passpartout.art
SUMMARY:Colore - Mostra-gioco interattiva
DESCRIPTION:Mostra-gioco per sperimentare ed imparare ad usare correttamentei colori e le luci; e le emozioni che questi sono in grado di suscitare!
URL:https://passpartout.art/evento/colore-mostra-gioco-interattiva-120/
CATEGORIES:Musei
END:VEVENT
BEGIN:VEVENT
DTSTART;TZID=Europe/Rome:20250504T143000
DTEND;TZID=Europe/Rome:20250504T143000
DTSTAMP:20260420T105747
CREATED:20250430T221512Z
LAST-MODIFIED:20250430T221512Z
UID:6536-1746369000-1746369000@passpartout.art
SUMMARY:REMIDA - Centro di sperimentazione dei materiali di scarto
DESCRIPTION:REMIDA propone una varietà di materiali recuperati dalle fabbriche\, accuratamente selezionati e allestiti per coinvolgere bambini/e dai 12 mesi ai 5 anni. Dopo un primo momento di accoglienza iniziale gli educatori favoriscono il processo di gioco di bambini e bambine e allestiscono lo spazio in maniera funzionale all’esplorazione dei materiali.
URL:https://passpartout.art/evento/remida-centro-di-sperimentazione-dei-materiali-di-scarto-111/
CATEGORIES:Musei
END:VEVENT
BEGIN:VEVENT
DTSTART;TZID=Europe/Rome:20250504T143000
DTEND;TZID=Europe/Rome:20250504T143000
DTSTAMP:20260420T105747
CREATED:20250430T221640Z
LAST-MODIFIED:20250430T221640Z
UID:6564-1746369000-1746369000@passpartout.art
SUMMARY:Colore - Mostra-gioco interattiva
DESCRIPTION:Mostra-gioco per sperimentare ed imparare ad usare correttamentei colori e le luci; e le emozioni che questi sono in grado di suscitare!
URL:https://passpartout.art/evento/colore-mostra-gioco-interattiva-121/
CATEGORIES:Musei
END:VEVENT
BEGIN:VEVENT
DTSTART;TZID=Europe/Rome:20250504T150000
DTEND;TZID=Europe/Rome:20250504T150000
DTSTAMP:20260420T105747
CREATED:20250430T221442Z
LAST-MODIFIED:20250430T221442Z
UID:6527-1746370800-1746370800@passpartout.art
SUMMARY:Little Mart | Macchiami
DESCRIPTION:Un laboratorio per sperimentare la libertà di macchiare il foglio con tanti colori e tecniche diverse\, lasciandosi stupire da sfumature ed effetti imprevedibili. Via libera alle macchie e alla creatività dei più piccoli!
URL:https://passpartout.art/evento/little-mart-macchiami-2/
CATEGORIES:Musei
END:VEVENT
BEGIN:VEVENT
DTSTART;TZID=Europe/Rome:20250504T153000
DTEND;TZID=Europe/Rome:20250504T153000
DTSTAMP:20260420T105747
CREATED:20250430T221813Z
LAST-MODIFIED:20250430T221813Z
UID:6598-1746372600-1746372600@passpartout.art
SUMMARY:SCIENCE SHOW
DESCRIPTION:Sei pronto ad assistere ad un vero e proprio spettacolo di scienza?\nBenvenuti nello scoppiettante laboratorio del Children’s Museum Verona!\nUn luogo straordinario\, dove si vive di reazioni ed esplosioni sconvolgenti!\nLasciati sorprendere dai nostri scienziati un po’ pazzi\, che ti faranno scoprire i segreti dei quattro elementi\, attraverso l’utilizzo di oggetti semplici\, ma che nascondono proprietà che non avresti mai immaginato! Incuriosire\, meravigliare\, appassionare con oggetti ordinari usati in modo straordinario grazie alla scienza.\nUno spettacolo da brividi che lascerà a bocca aperta grandi e bambini.
URL:https://passpartout.art/evento/science-show-10/
CATEGORIES:Musei
END:VEVENT
BEGIN:VEVENT
DTSTART;TZID=Europe/Rome:20250504T160000
DTEND;TZID=Europe/Rome:20250504T160000
DTSTAMP:20260420T105747
CREATED:20250430T221512Z
LAST-MODIFIED:20250430T221512Z
UID:6537-1746374400-1746374400@passpartout.art
SUMMARY:REMIDA - Centro di sperimentazione dei materiali di scarto
DESCRIPTION:REMIDA propone una varietà di materiali recuperati dalle fabbriche\, accuratamente selezionati e allestiti per coinvolgere bambini/e dai 12 mesi ai 5 anni. Dopo un primo momento di accoglienza iniziale gli educatori favoriscono il processo di gioco di bambini e bambine e allestiscono lo spazio in maniera funzionale all’esplorazione dei materiali.
URL:https://passpartout.art/evento/remida-centro-di-sperimentazione-dei-materiali-di-scarto-112/
CATEGORIES:Musei
END:VEVENT
BEGIN:VEVENT
DTSTART;TZID=Europe/Rome:20250504T160000
DTEND;TZID=Europe/Rome:20250504T160000
DTSTAMP:20260420T105747
CREATED:20250430T221641Z
LAST-MODIFIED:20250430T221641Z
UID:6565-1746374400-1746374400@passpartout.art
SUMMARY:Colore - Mostra-gioco interattiva
DESCRIPTION:Mostra-gioco per sperimentare ed imparare ad usare correttamentei colori e le luci; e le emozioni che questi sono in grado di suscitare!
URL:https://passpartout.art/evento/colore-mostra-gioco-interattiva-122/
CATEGORIES:Musei
END:VEVENT
END:VCALENDAR