BEGIN:VCALENDAR
VERSION:2.0
PRODID:-//Passpartout - ECPv6.15.20//NONSGML v1.0//EN
CALSCALE:GREGORIAN
METHOD:PUBLISH
X-WR-CALNAME:Passpartout
X-ORIGINAL-URL:https://passpartout.art
X-WR-CALDESC:Eventi per Passpartout
REFRESH-INTERVAL;VALUE=DURATION:PT1H
X-Robots-Tag:noindex
X-PUBLISHED-TTL:PT1H
BEGIN:VTIMEZONE
TZID:Europe/Rome
BEGIN:DAYLIGHT
TZOFFSETFROM:+0100
TZOFFSETTO:+0200
TZNAME:CEST
DTSTART:20240331T010000
END:DAYLIGHT
BEGIN:STANDARD
TZOFFSETFROM:+0200
TZOFFSETTO:+0100
TZNAME:CET
DTSTART:20241027T010000
END:STANDARD
BEGIN:DAYLIGHT
TZOFFSETFROM:+0100
TZOFFSETTO:+0200
TZNAME:CEST
DTSTART:20250330T010000
END:DAYLIGHT
BEGIN:STANDARD
TZOFFSETFROM:+0200
TZOFFSETTO:+0100
TZNAME:CET
DTSTART:20251026T010000
END:STANDARD
BEGIN:DAYLIGHT
TZOFFSETFROM:+0100
TZOFFSETTO:+0200
TZNAME:CEST
DTSTART:20260329T010000
END:DAYLIGHT
BEGIN:STANDARD
TZOFFSETFROM:+0200
TZOFFSETTO:+0100
TZNAME:CET
DTSTART:20261025T010000
END:STANDARD
END:VTIMEZONE
BEGIN:VEVENT
DTSTART;TZID=Europe/Rome:20250427T100000
DTEND;TZID=Europe/Rome:20250427T100000
DTSTAMP:20260420T092839
CREATED:20250404T104112Z
LAST-MODIFIED:20250404T104112Z
UID:6451-1745748000-1745748000@passpartout.art
SUMMARY:REMIDA - Centro di sperimentazione dei materiali di scarto
DESCRIPTION:REMIDA propone una varietà di materiali recuperati dalle fabbriche\, accuratamente selezionati e allestiti per coinvolgere bambini/e dai 12 mesi ai 5 anni. Dopo un primo momento di accoglienza iniziale gli educatori favoriscono il processo di gioco di bambini e bambine e allestiscono lo spazio in maniera funzionale all’esplorazione dei materiali.
URL:https://passpartout.art/evento/remida-centro-di-sperimentazione-dei-materiali-di-scarto-98/
CATEGORIES:Musei
END:VEVENT
BEGIN:VEVENT
DTSTART;TZID=Europe/Rome:20250427T100000
DTEND;TZID=Europe/Rome:20250427T100000
DTSTAMP:20260420T092839
CREATED:20250404T104314Z
LAST-MODIFIED:20250404T104314Z
UID:6494-1745748000-1745748000@passpartout.art
SUMMARY:Colore - Mostra-gioco interattiva
DESCRIPTION:Mostra-gioco per sperimentare ed imparare ad usare correttamentei colori e le luci; e le emozioni che questi sono in grado di suscitare!
URL:https://passpartout.art/evento/colore-mostra-gioco-interattiva-108/
CATEGORIES:Musei
END:VEVENT
BEGIN:VEVENT
DTSTART;TZID=Europe/Rome:20250427T113000
DTEND;TZID=Europe/Rome:20250427T113000
DTSTAMP:20260420T092839
CREATED:20250404T104113Z
LAST-MODIFIED:20250404T104113Z
UID:6452-1745753400-1745753400@passpartout.art
SUMMARY:REMIDA - Centro di sperimentazione dei materiali di scarto
DESCRIPTION:REMIDA propone una varietà di materiali recuperati dalle fabbriche\, accuratamente selezionati e allestiti per coinvolgere bambini/e dai 12 mesi ai 5 anni. Dopo un primo momento di accoglienza iniziale gli educatori favoriscono il processo di gioco di bambini e bambine e allestiscono lo spazio in maniera funzionale all’esplorazione dei materiali.
URL:https://passpartout.art/evento/remida-centro-di-sperimentazione-dei-materiali-di-scarto-99/
CATEGORIES:Musei
END:VEVENT
BEGIN:VEVENT
DTSTART;TZID=Europe/Rome:20250427T113000
DTEND;TZID=Europe/Rome:20250427T113000
DTSTAMP:20260420T092839
CREATED:20250404T104315Z
LAST-MODIFIED:20250404T104315Z
UID:6495-1745753400-1745753400@passpartout.art
SUMMARY:Colore - Mostra-gioco interattiva
DESCRIPTION:Mostra-gioco per sperimentare ed imparare ad usare correttamentei colori e le luci; e le emozioni che questi sono in grado di suscitare!
URL:https://passpartout.art/evento/colore-mostra-gioco-interattiva-109/
CATEGORIES:Musei
END:VEVENT
BEGIN:VEVENT
DTSTART;TZID=Europe/Rome:20250427T143000
DTEND;TZID=Europe/Rome:20250427T143000
DTSTAMP:20260420T092839
CREATED:20250404T104114Z
LAST-MODIFIED:20250404T104114Z
UID:6453-1745764200-1745764200@passpartout.art
SUMMARY:REMIDA - Centro di sperimentazione dei materiali di scarto
DESCRIPTION:REMIDA propone una varietà di materiali recuperati dalle fabbriche\, accuratamente selezionati e allestiti per coinvolgere bambini/e dai 12 mesi ai 5 anni. Dopo un primo momento di accoglienza iniziale gli educatori favoriscono il processo di gioco di bambini e bambine e allestiscono lo spazio in maniera funzionale all’esplorazione dei materiali.
URL:https://passpartout.art/evento/remida-centro-di-sperimentazione-dei-materiali-di-scarto-100/
CATEGORIES:Musei
END:VEVENT
BEGIN:VEVENT
DTSTART;TZID=Europe/Rome:20250427T143000
DTEND;TZID=Europe/Rome:20250427T143000
DTSTAMP:20260420T092839
CREATED:20250404T104327Z
LAST-MODIFIED:20250404T104327Z
UID:6496-1745764200-1745764200@passpartout.art
SUMMARY:Colore - Mostra-gioco interattiva
DESCRIPTION:Mostra-gioco per sperimentare ed imparare ad usare correttamentei colori e le luci; e le emozioni che questi sono in grado di suscitare!
URL:https://passpartout.art/evento/colore-mostra-gioco-interattiva-110/
CATEGORIES:Musei
END:VEVENT
BEGIN:VEVENT
DTSTART;TZID=Europe/Rome:20250427T150000
DTEND;TZID=Europe/Rome:20250427T150000
DTSTAMP:20260420T092839
CREATED:20250404T103909Z
LAST-MODIFIED:20250404T103909Z
UID:6410-1745766000-1745766000@passpartout.art
SUMMARY:Entra nella mente del genio
DESCRIPTION:Insieme alle nostre guide scoprirete il lavoro del centro di ricerca e ripercorrete le tappe fondamentali della nostra storia attarverso le macchine esposte all’interno del Leonardo3 Museum.
URL:https://passpartout.art/evento/entra-nella-mente-del-genio-14/
CATEGORIES:Musei
END:VEVENT
BEGIN:VEVENT
DTSTART;TZID=Europe/Rome:20250427T160000
DTEND;TZID=Europe/Rome:20250427T160000
DTSTAMP:20260420T092839
CREATED:20250404T104114Z
LAST-MODIFIED:20250404T104114Z
UID:6454-1745769600-1745769600@passpartout.art
SUMMARY:REMIDA - Centro di sperimentazione dei materiali di scarto
DESCRIPTION:REMIDA propone una varietà di materiali recuperati dalle fabbriche\, accuratamente selezionati e allestiti per coinvolgere bambini/e dai 12 mesi ai 5 anni. Dopo un primo momento di accoglienza iniziale gli educatori favoriscono il processo di gioco di bambini e bambine e allestiscono lo spazio in maniera funzionale all’esplorazione dei materiali.
URL:https://passpartout.art/evento/remida-centro-di-sperimentazione-dei-materiali-di-scarto-101/
CATEGORIES:Musei
END:VEVENT
BEGIN:VEVENT
DTSTART;TZID=Europe/Rome:20250427T160000
DTEND;TZID=Europe/Rome:20250427T160000
DTSTAMP:20260420T092839
CREATED:20250404T104328Z
LAST-MODIFIED:20250404T104328Z
UID:6497-1745769600-1745769600@passpartout.art
SUMMARY:Colore - Mostra-gioco interattiva
DESCRIPTION:Mostra-gioco per sperimentare ed imparare ad usare correttamentei colori e le luci; e le emozioni che questi sono in grado di suscitare!
URL:https://passpartout.art/evento/colore-mostra-gioco-interattiva-111/
CATEGORIES:Musei
END:VEVENT
END:VCALENDAR