BEGIN:VCALENDAR
VERSION:2.0
PRODID:-//Passpartout - ECPv6.15.20//NONSGML v1.0//EN
CALSCALE:GREGORIAN
METHOD:PUBLISH
X-ORIGINAL-URL:https://passpartout.art
X-WR-CALDESC:Eventi per Passpartout
REFRESH-INTERVAL;VALUE=DURATION:PT1H
X-Robots-Tag:noindex
X-PUBLISHED-TTL:PT1H
BEGIN:VTIMEZONE
TZID:Europe/Rome
BEGIN:DAYLIGHT
TZOFFSETFROM:+0100
TZOFFSETTO:+0200
TZNAME:CEST
DTSTART:20240331T010000
END:DAYLIGHT
BEGIN:STANDARD
TZOFFSETFROM:+0200
TZOFFSETTO:+0100
TZNAME:CET
DTSTART:20241027T010000
END:STANDARD
BEGIN:DAYLIGHT
TZOFFSETFROM:+0100
TZOFFSETTO:+0200
TZNAME:CEST
DTSTART:20250330T010000
END:DAYLIGHT
BEGIN:STANDARD
TZOFFSETFROM:+0200
TZOFFSETTO:+0100
TZNAME:CET
DTSTART:20251026T010000
END:STANDARD
BEGIN:DAYLIGHT
TZOFFSETFROM:+0100
TZOFFSETTO:+0200
TZNAME:CEST
DTSTART:20260329T010000
END:DAYLIGHT
BEGIN:STANDARD
TZOFFSETFROM:+0200
TZOFFSETTO:+0100
TZNAME:CET
DTSTART:20261025T010000
END:STANDARD
END:VTIMEZONE
BEGIN:VEVENT
DTSTART;TZID=Europe/Rome:20250422T164500
DTEND;TZID=Europe/Rome:20250422T164500
DTSTAMP:20260420T105742
CREATED:20250404T104359Z
LAST-MODIFIED:20250404T104359Z
UID:6508-1745340300-1745340300@passpartout.art
SUMMARY:BAM Workshop KIDS Orti: Ripartiamo con l’orto
DESCRIPTION:Tutti i martedì ci troviamo nel Giardino De Castillia con i laboratori di orticoltura per scoprire i colori della natura tra ortaggi\, fiori e insetti!
URL:https://passpartout.art/evento/bam-workshop-kids-orti-ripartiamo-con-lorto-3/
CATEGORIES:Parchi ville monumenti
END:VEVENT
BEGIN:VEVENT
DTSTART;TZID=Europe/Rome:20250422T203000
DTEND;TZID=Europe/Rome:20250422T203000
DTSTAMP:20260420T105742
CREATED:20250404T103913Z
LAST-MODIFIED:20250404T103913Z
UID:6414-1745353800-1745353800@passpartout.art
SUMMARY:Holiday on Mart Spring. Vacanze al Mart.
DESCRIPTION:Durante le vacanze di Pasqua torna la colonia diurna del Mart dedicata ai bambini dai 5 ai 12 anni: un modo diverso di trascorrere le vacanze in città\, vivendo esperienze creative ed educative a tutto tondo\, sperimentando in modo divertente le tecniche e i linguaggi dell’arte\, esplorando il museo in modo giocoso.
URL:https://passpartout.art/evento/holiday-on-mart-spring-vacanze-al-mart-3/
CATEGORIES:Musei
END:VEVENT
END:VCALENDAR