BEGIN:VCALENDAR
VERSION:2.0
PRODID:-//Passpartout - ECPv6.15.20//NONSGML v1.0//EN
CALSCALE:GREGORIAN
METHOD:PUBLISH
X-ORIGINAL-URL:https://passpartout.art
X-WR-CALDESC:Eventi per Passpartout
REFRESH-INTERVAL;VALUE=DURATION:PT1H
X-Robots-Tag:noindex
X-PUBLISHED-TTL:PT1H
BEGIN:VTIMEZONE
TZID:Europe/Rome
BEGIN:DAYLIGHT
TZOFFSETFROM:+0100
TZOFFSETTO:+0200
TZNAME:CEST
DTSTART:20240331T010000
END:DAYLIGHT
BEGIN:STANDARD
TZOFFSETFROM:+0200
TZOFFSETTO:+0100
TZNAME:CET
DTSTART:20241027T010000
END:STANDARD
BEGIN:DAYLIGHT
TZOFFSETFROM:+0100
TZOFFSETTO:+0200
TZNAME:CEST
DTSTART:20250330T010000
END:DAYLIGHT
BEGIN:STANDARD
TZOFFSETFROM:+0200
TZOFFSETTO:+0100
TZNAME:CET
DTSTART:20251026T010000
END:STANDARD
BEGIN:DAYLIGHT
TZOFFSETFROM:+0100
TZOFFSETTO:+0200
TZNAME:CEST
DTSTART:20260329T010000
END:DAYLIGHT
BEGIN:STANDARD
TZOFFSETFROM:+0200
TZOFFSETTO:+0100
TZNAME:CET
DTSTART:20261025T010000
END:STANDARD
END:VTIMEZONE
BEGIN:VEVENT
DTSTART;TZID=Europe/Rome:20250412T100000
DTEND;TZID=Europe/Rome:20250412T100000
DTSTAMP:20260420T193733
CREATED:20250404T103944Z
LAST-MODIFIED:20250404T103944Z
UID:6423-1744452000-1744452000@passpartout.art
SUMMARY:REMIDA - Centro di sperimentazione dei materiali di scarto
DESCRIPTION:REMIDA propone una varietà di materiali recuperati dalle fabbriche\, accuratamente selezionati e allestiti per coinvolgere bambini/e dai 12 mesi ai 5 anni. Dopo un primo momento di accoglienza iniziale gli educatori favoriscono il processo di gioco di bambini e bambine e allestiscono lo spazio in maniera funzionale all’esplorazione dei materiali.
URL:https://passpartout.art/evento/remida-centro-di-sperimentazione-dei-materiali-di-scarto-70/
CATEGORIES:Musei
END:VEVENT
BEGIN:VEVENT
DTSTART;TZID=Europe/Rome:20250412T100000
DTEND;TZID=Europe/Rome:20250412T100000
DTSTAMP:20260420T193733
CREATED:20250404T104157Z
LAST-MODIFIED:20250404T104157Z
UID:6466-1744452000-1744452000@passpartout.art
SUMMARY:Colore - Mostra-gioco interattiva
DESCRIPTION:Mostra-gioco per sperimentare ed imparare ad usare correttamentei colori e le luci; e le emozioni che questi sono in grado di suscitare!
URL:https://passpartout.art/evento/colore-mostra-gioco-interattiva-80/
CATEGORIES:Musei
END:VEVENT
BEGIN:VEVENT
DTSTART;TZID=Europe/Rome:20250412T113000
DTEND;TZID=Europe/Rome:20250412T113000
DTSTAMP:20260420T193733
CREATED:20250404T103944Z
LAST-MODIFIED:20250404T103944Z
UID:6424-1744457400-1744457400@passpartout.art
SUMMARY:REMIDA - Centro di sperimentazione dei materiali di scarto
DESCRIPTION:REMIDA propone una varietà di materiali recuperati dalle fabbriche\, accuratamente selezionati e allestiti per coinvolgere bambini/e dai 12 mesi ai 5 anni. Dopo un primo momento di accoglienza iniziale gli educatori favoriscono il processo di gioco di bambini e bambine e allestiscono lo spazio in maniera funzionale all’esplorazione dei materiali.
URL:https://passpartout.art/evento/remida-centro-di-sperimentazione-dei-materiali-di-scarto-71/
CATEGORIES:Musei
END:VEVENT
BEGIN:VEVENT
DTSTART;TZID=Europe/Rome:20250412T113000
DTEND;TZID=Europe/Rome:20250412T113000
DTSTAMP:20260420T193733
CREATED:20250404T104158Z
LAST-MODIFIED:20250404T104158Z
UID:6467-1744457400-1744457400@passpartout.art
SUMMARY:Colore - Mostra-gioco interattiva
DESCRIPTION:Mostra-gioco per sperimentare ed imparare ad usare correttamentei colori e le luci; e le emozioni che questi sono in grado di suscitare!
URL:https://passpartout.art/evento/colore-mostra-gioco-interattiva-81/
CATEGORIES:Musei
END:VEVENT
BEGIN:VEVENT
DTSTART;TZID=Europe/Rome:20250412T143000
DTEND;TZID=Europe/Rome:20250412T143000
DTSTAMP:20260420T193733
CREATED:20250404T103945Z
LAST-MODIFIED:20250404T103945Z
UID:6425-1744468200-1744468200@passpartout.art
SUMMARY:REMIDA - Centro di sperimentazione dei materiali di scarto
DESCRIPTION:REMIDA propone una varietà di materiali recuperati dalle fabbriche\, accuratamente selezionati e allestiti per coinvolgere bambini/e dai 12 mesi ai 5 anni. Dopo un primo momento di accoglienza iniziale gli educatori favoriscono il processo di gioco di bambini e bambine e allestiscono lo spazio in maniera funzionale all’esplorazione dei materiali.
URL:https://passpartout.art/evento/remida-centro-di-sperimentazione-dei-materiali-di-scarto-72/
CATEGORIES:Musei
END:VEVENT
BEGIN:VEVENT
DTSTART;TZID=Europe/Rome:20250412T143000
DTEND;TZID=Europe/Rome:20250412T143000
DTSTAMP:20260420T193733
CREATED:20250404T104159Z
LAST-MODIFIED:20250404T104159Z
UID:6468-1744468200-1744468200@passpartout.art
SUMMARY:Colore - Mostra-gioco interattiva
DESCRIPTION:Mostra-gioco per sperimentare ed imparare ad usare correttamentei colori e le luci; e le emozioni che questi sono in grado di suscitare!
URL:https://passpartout.art/evento/colore-mostra-gioco-interattiva-82/
CATEGORIES:Musei
END:VEVENT
BEGIN:VEVENT
DTSTART;TZID=Europe/Rome:20250412T150000
DTEND;TZID=Europe/Rome:20250412T150000
DTSTAMP:20260420T193733
CREATED:20250404T103907Z
LAST-MODIFIED:20250404T103907Z
UID:6407-1744470000-1744470000@passpartout.art
SUMMARY:Inside out: i moti dell'animo
DESCRIPTION:Proveremo a scoprire come le emozioni cambiano l’espressione dei nostri volti. Insieme costruiremo una faccia che possa comunicare gioia\, serenità\, rabbia\, paura e\, come faceva Leonardo\, impareremo a osservare gli altri per rendere al meglio gli stati d’animo che ci caratterizzano.
URL:https://passpartout.art/evento/inside-out-i-moti-dellanimo-2/
CATEGORIES:Musei
END:VEVENT
BEGIN:VEVENT
DTSTART;TZID=Europe/Rome:20250412T153000
DTEND;TZID=Europe/Rome:20250412T153000
DTSTAMP:20260420T193733
CREATED:20250404T104400Z
LAST-MODIFIED:20250404T104400Z
UID:6510-1744471800-1744471800@passpartout.art
SUMMARY:raduno medievale
DESCRIPTION:Un grande accampamento ricostruito ai piedi della Torre Medievale del Castello di San Pelagio\, un tempo parte del sistema difensivo dei Signori di Padova. Decine di compagnie con oltre 100 rievocatori da tutto il nord d’Italia… attività\, giochi e combattimenti per un tuffo nel passato all’epoca della Signoria dei Carraresi!
URL:https://passpartout.art/evento/raduno-medievale/
CATEGORIES:Parchi ville monumenti
END:VEVENT
BEGIN:VEVENT
DTSTART;TZID=Europe/Rome:20250412T160000
DTEND;TZID=Europe/Rome:20250412T160000
DTSTAMP:20260420T193733
CREATED:20250404T103957Z
LAST-MODIFIED:20250404T103957Z
UID:6426-1744473600-1744473600@passpartout.art
SUMMARY:REMIDA - Centro di sperimentazione dei materiali di scarto
DESCRIPTION:REMIDA propone una varietà di materiali recuperati dalle fabbriche\, accuratamente selezionati e allestiti per coinvolgere bambini/e dai 12 mesi ai 5 anni. Dopo un primo momento di accoglienza iniziale gli educatori favoriscono il processo di gioco di bambini e bambine e allestiscono lo spazio in maniera funzionale all’esplorazione dei materiali.
URL:https://passpartout.art/evento/remida-centro-di-sperimentazione-dei-materiali-di-scarto-73/
CATEGORIES:Musei
END:VEVENT
BEGIN:VEVENT
DTSTART;TZID=Europe/Rome:20250412T160000
DTEND;TZID=Europe/Rome:20250412T160000
DTSTAMP:20260420T193733
CREATED:20250404T104159Z
LAST-MODIFIED:20250404T104159Z
UID:6469-1744473600-1744473600@passpartout.art
SUMMARY:Colore - Mostra-gioco interattiva
DESCRIPTION:Mostra-gioco per sperimentare ed imparare ad usare correttamentei colori e le luci; e le emozioni che questi sono in grado di suscitare!
URL:https://passpartout.art/evento/colore-mostra-gioco-interattiva-83/
CATEGORIES:Musei
END:VEVENT
END:VCALENDAR