BEGIN:VCALENDAR
VERSION:2.0
PRODID:-//Passpartout - ECPv6.15.20//NONSGML v1.0//EN
CALSCALE:GREGORIAN
METHOD:PUBLISH
X-ORIGINAL-URL:https://passpartout.art
X-WR-CALDESC:Eventi per Passpartout
REFRESH-INTERVAL;VALUE=DURATION:PT1H
X-Robots-Tag:noindex
X-PUBLISHED-TTL:PT1H
BEGIN:VTIMEZONE
TZID:Europe/Rome
BEGIN:DAYLIGHT
TZOFFSETFROM:+0100
TZOFFSETTO:+0200
TZNAME:CEST
DTSTART:20240331T010000
END:DAYLIGHT
BEGIN:STANDARD
TZOFFSETFROM:+0200
TZOFFSETTO:+0100
TZNAME:CET
DTSTART:20241027T010000
END:STANDARD
BEGIN:DAYLIGHT
TZOFFSETFROM:+0100
TZOFFSETTO:+0200
TZNAME:CEST
DTSTART:20250330T010000
END:DAYLIGHT
BEGIN:STANDARD
TZOFFSETFROM:+0200
TZOFFSETTO:+0100
TZNAME:CET
DTSTART:20251026T010000
END:STANDARD
BEGIN:DAYLIGHT
TZOFFSETFROM:+0100
TZOFFSETTO:+0200
TZNAME:CEST
DTSTART:20260329T010000
END:DAYLIGHT
BEGIN:STANDARD
TZOFFSETFROM:+0200
TZOFFSETTO:+0100
TZNAME:CET
DTSTART:20261025T010000
END:STANDARD
END:VTIMEZONE
BEGIN:VEVENT
DTSTART;TZID=Europe/Rome:20250408T164500
DTEND;TZID=Europe/Rome:20250408T164500
DTSTAMP:20260423T020244
CREATED:20250404T104357Z
LAST-MODIFIED:20250404T104357Z
UID:6506-1744130700-1744130700@passpartout.art
SUMMARY:BAM Workshop KIDS Orti: Ripartiamo con l’orto
DESCRIPTION:Tutti i martedì ci troviamo nel Giardino De Castillia con i laboratori di orticoltura per scoprire i colori della natura tra ortaggi\, fiori e insetti!
URL:https://passpartout.art/evento/bam-workshop-kids-orti-ripartiamo-con-lorto/
CATEGORIES:Parchi ville monumenti
END:VEVENT
BEGIN:VEVENT
DTSTART;TZID=Europe/Rome:20250408T170000
DTEND;TZID=Europe/Rome:20250408T170000
DTSTAMP:20260423T020244
CREATED:20250404T104342Z
LAST-MODIFIED:20250430T221742Z
UID:6501-1744131600-1744131600@passpartout.art
SUMMARY:Giochiamo a Teatro
DESCRIPTION:Anche per la stagione 2024/2025 MUBA propone GIOCHIAMO AL TEATRO!Faremo Teatro insieme per imparare nuovi modi di stare in relazione con gli altri in un clima sempre giocoso e privo di giudizio.I martedì non festivi da febbraio a maggio 2025 dalle 17.00 alle 18.30.
URL:https://passpartout.art/evento/giochiamo-a-teatro/
CATEGORIES:Musei
END:VEVENT
END:VCALENDAR