BEGIN:VCALENDAR
VERSION:2.0
PRODID:-//Passpartout - ECPv6.15.20//NONSGML v1.0//EN
CALSCALE:GREGORIAN
METHOD:PUBLISH
X-WR-CALNAME:Passpartout
X-ORIGINAL-URL:https://passpartout.art
X-WR-CALDESC:Eventi per Passpartout
REFRESH-INTERVAL;VALUE=DURATION:PT1H
X-Robots-Tag:noindex
X-PUBLISHED-TTL:PT1H
BEGIN:VTIMEZONE
TZID:Europe/Rome
BEGIN:DAYLIGHT
TZOFFSETFROM:+0100
TZOFFSETTO:+0200
TZNAME:CEST
DTSTART:20240331T010000
END:DAYLIGHT
BEGIN:STANDARD
TZOFFSETFROM:+0200
TZOFFSETTO:+0100
TZNAME:CET
DTSTART:20241027T010000
END:STANDARD
BEGIN:DAYLIGHT
TZOFFSETFROM:+0100
TZOFFSETTO:+0200
TZNAME:CEST
DTSTART:20250330T010000
END:DAYLIGHT
BEGIN:STANDARD
TZOFFSETFROM:+0200
TZOFFSETTO:+0100
TZNAME:CET
DTSTART:20251026T010000
END:STANDARD
BEGIN:DAYLIGHT
TZOFFSETFROM:+0100
TZOFFSETTO:+0200
TZNAME:CEST
DTSTART:20260329T010000
END:DAYLIGHT
BEGIN:STANDARD
TZOFFSETFROM:+0200
TZOFFSETTO:+0100
TZNAME:CET
DTSTART:20261025T010000
END:STANDARD
END:VTIMEZONE
BEGIN:VEVENT
DTSTART;TZID=Europe/Rome:20250328T170000
DTEND;TZID=Europe/Rome:20250328T170000
DTSTAMP:20260420T033653
CREATED:20250226T230104Z
LAST-MODIFIED:20250226T230104Z
UID:6341-1743181200-1743181200@passpartout.art
SUMMARY:REMIDA - Centro di sperimentazione dei materiali di scarto
DESCRIPTION:REMIDA propone una varietà di materiali recuperati dalle fabbriche\, accuratamente selezionati e allestiti per coinvolgere bambini/e dai 12 mesi ai 5 anni. Dopo un primo momento di accoglienza iniziale gli educatori favoriscono il processo di gioco di bambini e bambine e allestiscono lo spazio in maniera funzionale all’esplorazione dei materiali.
URL:https://passpartout.art/evento/remida-centro-di-sperimentazione-dei-materiali-di-scarto-53/
CATEGORIES:Musei
END:VEVENT
BEGIN:VEVENT
DTSTART;TZID=Europe/Rome:20250328T170000
DTEND;TZID=Europe/Rome:20250328T170000
DTSTAMP:20260420T033653
CREATED:20250226T230249Z
LAST-MODIFIED:20250226T230249Z
UID:6377-1743181200-1743181200@passpartout.art
SUMMARY:Colore - Mostra-gioco interattiva
DESCRIPTION:Mostra-gioco per sperimentare ed imparare ad usare correttamentei colori e le luci; e le emozioni che questi sono in grado di suscitare!
URL:https://passpartout.art/evento/colore-mostra-gioco-interattiva-63/
CATEGORIES:Musei
END:VEVENT
BEGIN:VEVENT
DTSTART;TZID=Europe/Rome:20250328T173000
DTEND;TZID=Europe/Rome:20250328T173000
DTSTAMP:20260420T033653
CREATED:20250226T230003Z
LAST-MODIFIED:20250226T230003Z
UID:6319-1743183000-1743183000@passpartout.art
SUMMARY:Le avventure di Alice nel paese delle meraviglie
DESCRIPTION:Ciò che pensa Alice di un libro senza illustrazioni né dialoghi è che sia decisamente noioso: per fortuna ecco sfrecciarle sotto gli occhi un coniglio bianco alla guida di un’automobile sportiva. \nBorbotta disperato: “Povero me\, arriverò in ritardo!” e Alice si chiede dove stia andando. \nIl coniglio si infila in un buco del terreno\, buio e profondo\, e Alice\, curiosa\, lo insegue: è laggiù che si trova quel paese in cui le meraviglie sono davvero tante. \nÈ laggiù che incontrerete il Bruco verde che fuma da un lungo bocchino\, la Duchessa tutta rosa e il suo buffo porcellino\, il Cappellaio Matto e la Lepre Marzolina\, il Re di Cuori e la cattivissima Regina.
URL:https://passpartout.art/evento/le-avventure-di-alice-nel-paese-delle-meraviglie-11/
CATEGORIES:Teatri
END:VEVENT
END:VCALENDAR