BEGIN:VCALENDAR
VERSION:2.0
PRODID:-//Passpartout - ECPv6.15.20//NONSGML v1.0//EN
CALSCALE:GREGORIAN
METHOD:PUBLISH
X-WR-CALNAME:Passpartout
X-ORIGINAL-URL:https://passpartout.art
X-WR-CALDESC:Eventi per Passpartout
REFRESH-INTERVAL;VALUE=DURATION:PT1H
X-Robots-Tag:noindex
X-PUBLISHED-TTL:PT1H
BEGIN:VTIMEZONE
TZID:Europe/Rome
BEGIN:DAYLIGHT
TZOFFSETFROM:+0100
TZOFFSETTO:+0200
TZNAME:CEST
DTSTART:20240331T010000
END:DAYLIGHT
BEGIN:STANDARD
TZOFFSETFROM:+0200
TZOFFSETTO:+0100
TZNAME:CET
DTSTART:20241027T010000
END:STANDARD
BEGIN:DAYLIGHT
TZOFFSETFROM:+0100
TZOFFSETTO:+0200
TZNAME:CEST
DTSTART:20250330T010000
END:DAYLIGHT
BEGIN:STANDARD
TZOFFSETFROM:+0200
TZOFFSETTO:+0100
TZNAME:CET
DTSTART:20251026T010000
END:STANDARD
BEGIN:DAYLIGHT
TZOFFSETFROM:+0100
TZOFFSETTO:+0200
TZNAME:CEST
DTSTART:20260329T010000
END:DAYLIGHT
BEGIN:STANDARD
TZOFFSETFROM:+0200
TZOFFSETTO:+0100
TZNAME:CET
DTSTART:20261025T010000
END:STANDARD
END:VTIMEZONE
BEGIN:VEVENT
DTSTART;TZID=Europe/Rome:20250301T150000
DTEND;TZID=Europe/Rome:20250301T150000
DTSTAMP:20260420T033703
CREATED:20250226T225914Z
LAST-MODIFIED:20250226T225914Z
UID:6301-1740841200-1740841200@passpartout.art
SUMMARY:Biancaneve
DESCRIPTION:Per essere felici basta una casa nel bosco.\nE non importa se è piccola.\nCiò che importa è volersi bene anche se si sta stretti \nLa nostra Biancaneve\, come quella della celebre fiaba\, è una principessa gentile odiata dalla sua crudele matrigna. \nLe situazioni e i personaggi sono quelli che conosciamo tutti e anche la nostra Biancaneve mangia la mela avvelenata\, viene risvegliata con un bacio ma\, insieme al principe\, decide di restare a vivere coi nani perché le piace la vita all’aria aperta. \nNon le interessano vestiti grandiosi\, scarpe lussuose\, cappelli magnifici. Per essere felice le basta una casa nel bosco. E non importa se è piccola. Ciò che importa è volersi bene. \nAnche se si sta stretti.
URL:https://passpartout.art/evento/biancaneve-9/
CATEGORIES:Teatri
END:VEVENT
BEGIN:VEVENT
DTSTART;TZID=Europe/Rome:20250301T151500
DTEND;TZID=Europe/Rome:20250301T151500
DTSTAMP:20260420T033703
CREATED:20250226T230335Z
LAST-MODIFIED:20250226T230335Z
UID:6393-1740842100-1740842100@passpartout.art
SUMMARY:Cinema amico - Nina e il segreto del riccio
DESCRIPTION:Nina ha un papà che le racconta e disegna storie prima di dormire. Arriva però il momento in cui questa tradizione viene interrotta. Non solo perché cresce ma soprattutto perché il genitore è preoccupato perché la fabbrica in cui lavorava ha chiuso l’attività. Con l’aiuto del coetaneo Mehdi\, che si trova in una situazione analoga\, e con il supporto del riccio che il padre le aveva disegnato\, mette in atto un piano per trovare il denaro che il direttore della fabbrica aveva rubato portandola così alla chiusura.
URL:https://passpartout.art/evento/cinema-amico-nina-e-il-segreto-del-riccio/
CATEGORIES:Cinema
END:VEVENT
BEGIN:VEVENT
DTSTART;TZID=Europe/Rome:20250301T173000
DTEND;TZID=Europe/Rome:20250301T173000
DTSTAMP:20260420T033703
CREATED:20250226T225913Z
LAST-MODIFIED:20250226T225913Z
UID:6300-1740850200-1740850200@passpartout.art
SUMMARY:Biancaneve
DESCRIPTION:Per essere felici basta una casa nel bosco.\nE non importa se è piccola.\nCiò che importa è volersi bene anche se si sta stretti \nLa nostra Biancaneve\, come quella della celebre fiaba\, è una principessa gentile odiata dalla sua crudele matrigna. \nLe situazioni e i personaggi sono quelli che conosciamo tutti e anche la nostra Biancaneve mangia la mela avvelenata\, viene risvegliata con un bacio ma\, insieme al principe\, decide di restare a vivere coi nani perché le piace la vita all’aria aperta. \nNon le interessano vestiti grandiosi\, scarpe lussuose\, cappelli magnifici. Per essere felice le basta una casa nel bosco. E non importa se è piccola. Ciò che importa è volersi bene. \nAnche se si sta stretti.
URL:https://passpartout.art/evento/biancaneve-8/
CATEGORIES:Teatri
END:VEVENT
END:VCALENDAR