BEGIN:VCALENDAR
VERSION:2.0
PRODID:-//Passpartout - ECPv6.15.20//NONSGML v1.0//EN
CALSCALE:GREGORIAN
METHOD:PUBLISH
X-ORIGINAL-URL:https://passpartout.art
X-WR-CALDESC:Eventi per Passpartout
REFRESH-INTERVAL;VALUE=DURATION:PT1H
X-Robots-Tag:noindex
X-PUBLISHED-TTL:PT1H
BEGIN:VTIMEZONE
TZID:Europe/Rome
BEGIN:DAYLIGHT
TZOFFSETFROM:+0100
TZOFFSETTO:+0200
TZNAME:CEST
DTSTART:20230326T010000
END:DAYLIGHT
BEGIN:STANDARD
TZOFFSETFROM:+0200
TZOFFSETTO:+0100
TZNAME:CET
DTSTART:20231029T010000
END:STANDARD
BEGIN:DAYLIGHT
TZOFFSETFROM:+0100
TZOFFSETTO:+0200
TZNAME:CEST
DTSTART:20240331T010000
END:DAYLIGHT
BEGIN:STANDARD
TZOFFSETFROM:+0200
TZOFFSETTO:+0100
TZNAME:CET
DTSTART:20241027T010000
END:STANDARD
BEGIN:DAYLIGHT
TZOFFSETFROM:+0100
TZOFFSETTO:+0200
TZNAME:CEST
DTSTART:20250330T010000
END:DAYLIGHT
BEGIN:STANDARD
TZOFFSETFROM:+0200
TZOFFSETTO:+0100
TZNAME:CET
DTSTART:20251026T010000
END:STANDARD
END:VTIMEZONE
BEGIN:VEVENT
DTSTART;TZID=Europe/Rome:20241012T100000
DTEND;TZID=Europe/Rome:20241012T100000
DTSTAMP:20260425T040247
CREATED:20241004T234150Z
LAST-MODIFIED:20241004T234150Z
UID:5347-1728727200-1728727200@passpartout.art
SUMMARY:Colore
DESCRIPTION:Mostra-gioco per sperimentare ed imparare ad usare correttamentei colori e le luci; e le emozioni che questi sono in grado di suscitare!
URL:https://passpartout.art/evento/colore-361/
CATEGORIES:Musei
END:VEVENT
BEGIN:VEVENT
DTSTART;TZID=Europe/Rome:20241012T100000
DTEND;TZID=Europe/Rome:20241012T100000
DTSTAMP:20260425T040247
CREATED:20241004T234336Z
LAST-MODIFIED:20241004T234336Z
UID:5382-1728727200-1728727200@passpartout.art
SUMMARY:Remida
DESCRIPTION:REMIDA Milano; centro di riuso creativo del materiale di scarto aziendale; accoglie famiglie e bambini e mette a disposizione materiali come gomme; stoffe colorate; plastiche per l’esplorazione e il gioco.
URL:https://passpartout.art/evento/remida-302/
CATEGORIES:Musei
END:VEVENT
BEGIN:VEVENT
DTSTART;TZID=Europe/Rome:20241012T113000
DTEND;TZID=Europe/Rome:20241012T113000
DTSTAMP:20260425T040247
CREATED:20241004T234151Z
LAST-MODIFIED:20241004T234151Z
UID:5348-1728732600-1728732600@passpartout.art
SUMMARY:Colore
DESCRIPTION:Mostra-gioco per sperimentare ed imparare ad usare correttamentei colori e le luci; e le emozioni che questi sono in grado di suscitare!
URL:https://passpartout.art/evento/colore-362/
CATEGORIES:Musei
END:VEVENT
BEGIN:VEVENT
DTSTART;TZID=Europe/Rome:20241012T113000
DTEND;TZID=Europe/Rome:20241012T113000
DTSTAMP:20260425T040247
CREATED:20241004T234336Z
LAST-MODIFIED:20241004T234336Z
UID:5383-1728732600-1728732600@passpartout.art
SUMMARY:Remida
DESCRIPTION:REMIDA Milano; centro di riuso creativo del materiale di scarto aziendale; accoglie famiglie e bambini e mette a disposizione materiali come gomme; stoffe colorate; plastiche per l’esplorazione e il gioco.
URL:https://passpartout.art/evento/remida-303/
CATEGORIES:Musei
END:VEVENT
BEGIN:VEVENT
DTSTART;TZID=Europe/Rome:20241012T143000
DTEND;TZID=Europe/Rome:20241012T143000
DTSTAMP:20260425T040247
CREATED:20241004T234151Z
LAST-MODIFIED:20241004T234151Z
UID:5349-1728743400-1728743400@passpartout.art
SUMMARY:Colore
DESCRIPTION:Mostra-gioco per sperimentare ed imparare ad usare correttamentei colori e le luci; e le emozioni che questi sono in grado di suscitare!
URL:https://passpartout.art/evento/colore-363/
CATEGORIES:Musei
END:VEVENT
BEGIN:VEVENT
DTSTART;TZID=Europe/Rome:20241012T143000
DTEND;TZID=Europe/Rome:20241012T143000
DTSTAMP:20260425T040247
CREATED:20241004T234336Z
LAST-MODIFIED:20241004T234336Z
UID:5384-1728743400-1728743400@passpartout.art
SUMMARY:Remida
DESCRIPTION:REMIDA Milano; centro di riuso creativo del materiale di scarto aziendale; accoglie famiglie e bambini e mette a disposizione materiali come gomme; stoffe colorate; plastiche per l’esplorazione e il gioco.
URL:https://passpartout.art/evento/remida-304/
CATEGORIES:Musei
END:VEVENT
BEGIN:VEVENT
DTSTART;TZID=Europe/Rome:20241012T150000
DTEND;TZID=Europe/Rome:20241012T150000
DTSTAMP:20260425T040247
CREATED:20241004T233950Z
LAST-MODIFIED:20241004T233950Z
UID:5310-1728745200-1728745200@passpartout.art
SUMMARY:Costruiamo… un sottomarino!
DESCRIPTION:Attraverso alcuni tra gli oggetti più curiosi custoditi al museo\, dal siluro all’elmo da palombaro\, scopriremo alcuni tra i tanti modi inventati dall’uomo per navigare sopra e sott’acqua. Viaggeremo con l’immaginazione e costruiremo un sottomarino che ci porterà a scoprire i tesori nascosti in fondo al mare. Accendiamo i motori\, allacciamo la fantasia e salpiamo insieme per un viaggio tra eliche\, turbine e… tanto altro!
URL:https://passpartout.art/evento/costruiamo-un-sottomarino/
CATEGORIES:Musei
END:VEVENT
BEGIN:VEVENT
DTSTART;TZID=Europe/Rome:20241012T150000
DTEND;TZID=Europe/Rome:20241012T150000
DTSTAMP:20260425T040247
CREATED:20241004T234021Z
LAST-MODIFIED:20241004T234021Z
UID:5321-1728745200-1728745200@passpartout.art
SUMMARY:Cenerentola
DESCRIPTION:La storia è quella di Perrault però i tempi sono quelli nostri.\nCenerentola è una ragazza dolcissima; le sorelle\, naturalmente\, invidiose e antipaticissime.\nLa matrigna è cattiva: fa yoga\, pilates\, maltratta Cenerentola ma rimbrotta volentieri anche le figlie.\nC’è la fata madrina che trasforma Cenerentola da sguattera in principessa\, le ciabatte in scarpette\, la zucca in carrozza.\nC’è un segretario del re molto compassato\, un re molto distinto\, un principe molto annoiato.\nLa storia è quella di Perrault però raccontata alla maniera del Teatro Colla: tante marionette\, tante sorprese e soprattutto tante risate
URL:https://passpartout.art/evento/cenerentola-2/
CATEGORIES:Teatri
END:VEVENT
BEGIN:VEVENT
DTSTART;TZID=Europe/Rome:20241012T153000
DTEND;TZID=Europe/Rome:20241012T153000
DTSTAMP:20260425T040247
CREATED:20241004T233933Z
LAST-MODIFIED:20241004T233933Z
UID:5295-1728747000-1728747000@passpartout.art
SUMMARY:“La misura della medicina: da antico a moderno”
DESCRIPTION:Racconteremo come sin dai tempi antichi si è cercato di comprendere e quantificare il corpo umano e le sue funzioni.
URL:https://passpartout.art/evento/la-misura-della-medicina-da-antico-a-moderno/
CATEGORIES:Planetari musei scientifici osservatori
END:VEVENT
BEGIN:VEVENT
DTSTART;TZID=Europe/Rome:20241012T153000
DTEND;TZID=Europe/Rome:20241012T153000
DTSTAMP:20260425T040247
CREATED:20241004T233933Z
LAST-MODIFIED:20241004T233933Z
UID:5296-1728747000-1728747000@passpartout.art
SUMMARY:“Misuriamo il corpo umano”
DESCRIPTION:Il nostro corpo è come una macchina straordinaria\, fatta di tanti meccanismi che lavorano insieme. Ma come possiamo capire meglio questo meraviglioso sistema? I numeri sono la chiave!
URL:https://passpartout.art/evento/misuriamo-il-corpo-umano/
CATEGORIES:Planetari musei scientifici osservatori
END:VEVENT
BEGIN:VEVENT
DTSTART;TZID=Europe/Rome:20241012T153000
DTEND;TZID=Europe/Rome:20241012T153000
DTSTAMP:20260425T040247
CREATED:20241004T234006Z
LAST-MODIFIED:20241004T234006Z
UID:5315-1728747000-1728747000@passpartout.art
SUMMARY:Costruisci il Museo con noi!\nTitanic e Orient Express LEGO
DESCRIPTION:Sei un amante dei LEGO e desideri trascorrere una giornata creativa? Costruisci un pezzo del Museo con noi!\nTi aspettiamo al Museo dell’Emigrazione Marchigiana per montare insieme a noi due tra i più bei set dei Lego\, i mattoncini colorati più famosi al mondo\, il maestoso TITANIC e l’esotico ORIENT EXPRESS\, che presto entreranno nella collezione permanente del museo.\nSarà un’opportunità fantastica per contribuire ad un progetto speciale\, divertirsi e fare nuove amicizie
URL:https://passpartout.art/evento/costruisci-il-museo-con-noititanic-e-orient-express-lego-2/
CATEGORIES:Musei
END:VEVENT
BEGIN:VEVENT
DTSTART;TZID=Europe/Rome:20241012T160000
DTEND;TZID=Europe/Rome:20241012T160000
DTSTAMP:20260425T040247
CREATED:20241004T234151Z
LAST-MODIFIED:20241004T234151Z
UID:5350-1728748800-1728748800@passpartout.art
SUMMARY:Colore
DESCRIPTION:Mostra-gioco per sperimentare ed imparare ad usare correttamentei colori e le luci; e le emozioni che questi sono in grado di suscitare!
URL:https://passpartout.art/evento/colore-364/
CATEGORIES:Musei
END:VEVENT
BEGIN:VEVENT
DTSTART;TZID=Europe/Rome:20241012T160000
DTEND;TZID=Europe/Rome:20241012T160000
DTSTAMP:20260425T040247
CREATED:20241004T234336Z
LAST-MODIFIED:20241004T234336Z
UID:5385-1728748800-1728748800@passpartout.art
SUMMARY:Remida
DESCRIPTION:REMIDA Milano; centro di riuso creativo del materiale di scarto aziendale; accoglie famiglie e bambini e mette a disposizione materiali come gomme; stoffe colorate; plastiche per l’esplorazione e il gioco.
URL:https://passpartout.art/evento/remida-305/
CATEGORIES:Musei
END:VEVENT
BEGIN:VEVENT
DTSTART;TZID=Europe/Rome:20241012T173000
DTEND;TZID=Europe/Rome:20241012T173000
DTSTAMP:20260425T040247
CREATED:20241004T234035Z
LAST-MODIFIED:20241004T234035Z
UID:5322-1728754200-1728754200@passpartout.art
SUMMARY:Cenerentola
DESCRIPTION:La storia è quella di Perrault però i tempi sono quelli nostri.\nCenerentola è una ragazza dolcissima; le sorelle\, naturalmente\, invidiose e antipaticissime.\nLa matrigna è cattiva: fa yoga\, pilates\, maltratta Cenerentola ma rimbrotta volentieri anche le figlie.\nC’è la fata madrina che trasforma Cenerentola da sguattera in principessa\, le ciabatte in scarpette\, la zucca in carrozza.\nC’è un segretario del re molto compassato\, un re molto distinto\, un principe molto annoiato.\nLa storia è quella di Perrault però raccontata alla maniera del Teatro Colla: tante marionette\, tante sorprese e soprattutto tante risate
URL:https://passpartout.art/evento/cenerentola-3/
CATEGORIES:Teatri
END:VEVENT
END:VCALENDAR